Uber Exif Photo
By-line : Dave Curtis
Country-Primary Location Name : New Zealand
Copyright Notice : © Dave Curtis www.magiclight.co.nz
Copyright Flag : True
Make : Canon
Camera Model Name : Canon EOS-1Ds Mark III
Modify Date : 2010:07:11 12:47:07
Copyright : (C) Dave Curtis www.magiclight.co.nz
Exposure Time : 1/15
F Number : 2.0
Exposure Program : Aperture-priority AE
ISO : 100
Date/Time Original : 2010:07:03 13:17:34
Create Date : 2010:07:03 13:17:34
Shutter Speed Value : 1/15
Aperture Value : 2.0
Exposure Compensation : 0
Max Aperture Value : 2.0
Metering Mode : Multi-segment
Focal Length : 50.0 mm
Custom Rendered : Normal
Exposure Mode : Auto
White Balance : Auto
Scene Capture Type : Standard
Date/Time Digitized : 2010:07:03 13:17:34.87+12:00
Exif Image Width : 900
Exif Image Height : 600
Rating : 4
Creator Tool : Adobe Photoshop Lightroom
Serial Number : 611643
Lens Info : 50mm f/?
Lens : Zeiss Makro-Planar T* 2/50 ZE
Image Number : 0
Flash Compensation : 0
Firmware : 1.1.4
Country : New Zealand
Marked : True
Version : 6.1
Process Version : 5.7
Color Temperature : 4300
Tint : +11
Exposure : +0.17
Shadows : 5
Brightness : +50
Contrast : +38
Sharpness : 55
Luminance Smoothing : 0
Color Noise Reduction : 25
Chromatic Aberration R : 0
Chromatic Aberration B : 0
Vignette Amount : 0
Shadow Tint : 0
Red Hue : 0
Red Saturation : 0
Green Hue : 0
Green Saturation : 0
Blue Hue : 0
Blue Saturation : 0
Fill Light : 13
Highlight Recovery : 0
Clarity : +28
Defringe : 0
Gray Mixer Red : -9
Gray Mixer Orange : -19
Gray Mixer Yellow : -23
Gray Mixer Green : -27
Gray Mixer Aqua : -18
Gray Mixer Blue : +10
Gray Mixer Purple : +17
Gray Mixer Magenta : +5
Split Toning Shadow Hue : 0
Split Toning Shadow Saturation : 0
Split Toning Highlight Hue : 0
Split Toning Highlight Saturation : 0
Split Toning Balance : 0
Parametric Shadows : -10
Parametric Darks : -5
Parametric Lights : +5
Parametric Highlights : +34
Parametric Shadow Split : 25
Parametric Midtone Split : 50
Parametric Highlight Split : 75
Sharpen Radius : +0.8
Sharpen Detail : 23
Sharpen Edge Masking : 31
Post Crop Vignette Amount : 0
Grain Amount : 0
Color Noise Reduction Detail : 50
Lens Profile Enable : 0
Lens Manual Distortion Amount : 0
Perspective Vertical : 0
Perspective Horizontal : 0
Perspective Rotate : 0.0
Perspective Scale : 100
Convert To Grayscale : True
Tone Curve Name : Medium Contrast
Camera Profile : Adobe Standard
Lens Profile Setup : LensDefaults
Has Settings : True
Has Crop : False
Already Applied : True
Flash Fired : False
Flash Return : No return detection
Flash Mode : Off
Flash Function : False
Flash Red Eye Mode : False
Creator : Dave Curtis
Rights : © Dave Curtis www.magiclight.co.nz
Creator Country : New Zealand
Creator Work URL : www.magiclight.co.nz
Tone Curve : 0, 0, 32, 22, 64, 56, 128, 128, 192, 196, 255, 255
Image Width : 300
Image Height : 200
Bits Per Sample : 8
Color Components : 1
Aperture : 2.0
Image Size : 300x200
Megapixels : 0.060
Scale Factor To 35 mm Equivalent : 1.0
Shutter Speed : 1/15
Create Date : 2010:07:03 13:17:34.87
Date/Time Original : 2010:07:03 13:17:34.87
Flash : Off, Did not fire
Circle Of Confusion : 0.030 mm
Field Of View : 39.6 deg
Focal Length : 50.0 mm (35 mm equivalent: 50.0 mm)
Hyperfocal Distance : 41.57 m
Light Value : 5.9
Lens ID : Carl Zeiss Makro-Planar T* 50mm f/2 ZE