Uber Exif Photo
By-line : Dave Curtis
Country-Primary Location Name : New Zealand
Copyright Notice : © Dave Curtis www.magiclight.co.nz
Copyright Flag : True
Make : Canon
Camera Model Name : Canon EOS-1Ds Mark III
Modify Date : 2010:06:27 22:23:24
Copyright : (C) Dave Curtis www.magiclight.co.nz
Exposure Time : 1/125
F Number : 2.8
Exposure Program : Aperture-priority AE
ISO : 1600
Date/Time Original : 2010:06:26 18:19:13
Create Date : 2010:06:26 18:19:13
Shutter Speed Value : 1/125
Aperture Value : 2.8
Exposure Compensation : 0
Max Aperture Value : 2.8
Metering Mode : Multi-segment
Focal Length : 21.0 mm
Custom Rendered : Normal
Exposure Mode : Auto
White Balance : Auto
Scene Capture Type : Standard
Profile Description : sRGB IEC61966-2.1
Date/Time Digitized : 2010:06:26 18:19:13.61+12:00
Exif Image Width : 1000
Exif Image Height : 743
Rating : 4
Creator Tool : Adobe Photoshop Lightroom
Serial Number : 611643
Lens Info : 21mm f/?
Lens : Zeiss Distagon T* 2.8/21 ZE
Image Number : 0
Flash Compensation : 0
Firmware : 1.1.4
Country : New Zealand
Marked : True
Version : 6.1
Process Version : 5.7
Color Temperature : 4150
Tint : 0
Exposure : 0.00
Shadows : 5
Brightness : +50
Contrast : +42
Saturation : 0
Sharpness : 67
Luminance Smoothing : 17
Color Noise Reduction : 16
Chromatic Aberration R : 0
Chromatic Aberration B : 0
Vignette Amount : 0
Shadow Tint : 0
Red Hue : 0
Red Saturation : 0
Green Hue : 0
Green Saturation : 0
Blue Hue : 0
Blue Saturation : 0
Fill Light : 26
Vibrance : +19
Highlight Recovery : 0
Clarity : +28
Defringe : 0
Hue Adjustment Red : 0
Hue Adjustment Orange : 0
Hue Adjustment Yellow : 0
Hue Adjustment Green : 0
Hue Adjustment Aqua : 0
Hue Adjustment Blue : 0
Hue Adjustment Purple : 0
Hue Adjustment Magenta : 0
Saturation Adjustment Red : 0
Saturation Adjustment Orange : 0
Saturation Adjustment Yellow : 0
Saturation Adjustment Green : 0
Saturation Adjustment Aqua : 0
Saturation Adjustment Blue : 0
Saturation Adjustment Purple : 0
Saturation Adjustment Magenta : 0
Luminance Adjustment Red : 0
Luminance Adjustment Orange : 0
Luminance Adjustment Yellow : 0
Luminance Adjustment Green : 0
Luminance Adjustment Aqua : 0
Luminance Adjustment Blue : 0
Luminance Adjustment Purple : 0
Luminance Adjustment Magenta : 0
Split Toning Shadow Hue : 0
Split Toning Shadow Saturation : 0
Split Toning Highlight Hue : 0
Split Toning Highlight Saturation : 0
Split Toning Balance : 0
Parametric Shadows : -10
Parametric Darks : -5
Parametric Lights : +5
Parametric Highlights : +20
Parametric Shadow Split : 25
Parametric Midtone Split : 50
Parametric Highlight Split : 75
Sharpen Radius : +1.5
Sharpen Detail : 23
Sharpen Edge Masking : 71
Post Crop Vignette Amount : 0
Grain Amount : 0
Luminance Noise Reduction Detail : 50
Color Noise Reduction Detail : 50
Luminance Noise Reduction Contrast : 22
Lens Profile Enable : 0
Lens Manual Distortion Amount : 0
Perspective Vertical : 0
Perspective Horizontal : 0
Perspective Rotate : 0.0
Perspective Scale : 100
Convert To Grayscale : False
Tone Curve Name : Medium Contrast
Camera Profile : ACR 4.4
Lens Profile Setup : LensDefaults
Has Settings : True
Crop Top : 0
Crop Left : 0
Crop Bottom : 1
Crop Right : 0.896817
Crop Angle : 0
Crop Constrain To Warp : 0
Crop Width : 1000
Crop Height : 743
Crop Unit : pixels
Has Crop : True
Already Applied : True
Flash Fired : False
Flash Return : No return detection
Flash Mode : Unknown
Flash Function : False
Flash Red Eye Mode : False
Creator : Dave Curtis
Rights : © Dave Curtis www.magiclight.co.nz
Creator Country : New Zealand
Creator Work URL : www.magiclight.co.nz
Tone Curve : 0, 0, 32, 22, 64, 56, 128, 128, 192, 196, 255, 255
Paint Correction What : Correction
Paint Correction Amount : 1.000000
Paint Correction Active : true
Paint Correction Exposure : 0.241000
Paint Correction Saturation : 0.017000
Paint Correction Contrast : 0.000000
Paint Correction Clarity : 0.000000
Paint Correction Sharpness : 0.000000
Paint Correction Brightness : 0.000000
Paint Correction Toning Hue : 271.000000
Paint Correction Toning Saturation : 0.000000
Paint Correction Mask What : Mask/Paint
Paint Correction Mask Value : 0.821000
Paint Correction Mask Radius : 0.078161
Paint Correction Mask Flow : 0.495000
Paint Correction Mask Center Weight : 0.199752
Image Width : 300
Image Height : 223
Bits Per Sample : 8
Color Components : 3
Aperture : 2.8
Image Size : 300x223
Megapixels : 0.067
Scale Factor To 35 mm Equivalent : 1.0
Shutter Speed : 1/125
Create Date : 2010:06:26 18:19:13.61
Date/Time Original : 2010:06:26 18:19:13.61
Flash : No Flash
Circle Of Confusion : 0.030 mm
Field Of View : 81.3 deg
Focal Length : 21.0 mm (35 mm equivalent: 21.0 mm)
Hyperfocal Distance : 5.24 m
Light Value : 5.9
Lens ID : Carl Zeiss Distagon T* 21mm f/2.8 ZE