Uber Exif Photo
Make : Canon
Camera Model Name : Canon EOS-1Ds Mark III
Modify Date : 2010:05:30 20:53:18
Exposure Time : 1/50
F Number : 11.0
Exposure Program : Aperture-priority AE
ISO : 100
Date/Time Original : 2010:02:16 14:10:28
Create Date : 2010:02:16 14:10:28
Shutter Speed Value : 1/50
Aperture Value : 11.0
Exposure Compensation : +4/3
Max Aperture Value : 2.8
Metering Mode : Multi-segment
Focal Length : 21.0 mm
Custom Rendered : Normal
Exposure Mode : Auto
White Balance : Auto
Scene Capture Type : Standard
Date/Time Digitized : 2010:02:16 14:10:28.00+13:00
Exif Image Width : 800
Exif Image Height : 533
Creator Tool : Adobe Photoshop Lightroom
Serial Number : 611643
Lens Info : 21mm f/?
Lens : Zeiss Distagon T* 2.8/21 ZE
Image Number : 0
Flash Compensation : 0
Firmware : 1.1.4
Version : 6.0
Process Version : 5.7
Color Temperature : 5700
Tint : +4
Exposure : -0.85
Shadows : 5
Brightness : +50
Contrast : +33
Sharpness : 25
Luminance Smoothing : 0
Color Noise Reduction : 25
Chromatic Aberration R : 0
Chromatic Aberration B : 0
Vignette Amount : 0
Shadow Tint : 0
Red Hue : 0
Red Saturation : 0
Green Hue : 0
Green Saturation : 0
Blue Hue : 0
Blue Saturation : 0
Fill Light : 43
Highlight Recovery : 9
Clarity : 0
Defringe : 0
Gray Mixer Red : -37
Gray Mixer Orange : -40
Gray Mixer Yellow : -43
Gray Mixer Green : -54
Gray Mixer Aqua : -73
Gray Mixer Blue : -73
Gray Mixer Purple : -55
Gray Mixer Magenta : -62
Split Toning Shadow Hue : 0
Split Toning Shadow Saturation : 0
Split Toning Highlight Hue : 0
Split Toning Highlight Saturation : 0
Split Toning Balance : 0
Parametric Shadows : -15
Parametric Darks : -3
Parametric Lights : +16
Parametric Highlights : +24
Parametric Shadow Split : 25
Parametric Midtone Split : 50
Parametric Highlight Split : 75
Sharpen Radius : +1.0
Sharpen Detail : 25
Sharpen Edge Masking : 0
Post Crop Vignette Amount : 0
Grain Amount : 0
Color Noise Reduction Detail : 50
Convert To Grayscale : True
Tone Curve Name : Medium Contrast
Camera Profile : Adobe Standard
Has Settings : True
Has Crop : False
Already Applied : True
Flash Fired : False
Flash Return : No return detection
Flash Mode : Unknown
Flash Function : False
Flash Red Eye Mode : False
Tone Curve : 0, 0, 32, 22, 64, 56, 128, 128, 192, 196, 255, 255
Paint Correction What : Correction
Paint Correction Amount : 1.000000
Paint Correction Active : true
Paint Correction Exposure : 0.174000
Paint Correction Saturation : 0.000000
Paint Correction Contrast : 0.000000
Paint Correction Clarity : 0.000000
Paint Correction Sharpness : 0.000000
Paint Correction Brightness : 0.000000
Paint Correction Toning Hue : 0.000000
Paint Correction Toning Saturation : 0.000000
Paint Correction Mask What : Mask/Paint
Paint Correction Mask Value : 0.789000
Paint Correction Mask Radius : 0.063663
Paint Correction Mask Flow : 1.000000
Paint Correction Mask Center Weight : 0.144405
Image Width : 300
Image Height : 200
Bits Per Sample : 8
Color Components : 1
Aperture : 11.0
Image Size : 300x200
Megapixels : 0.060
Scale Factor To 35 mm Equivalent : 1.0
Shutter Speed : 1/50
Create Date : 2010:02:16 14:10:28.00
Date/Time Original : 2010:02:16 14:10:28.00
Flash : No Flash
Circle Of Confusion : 0.030 mm
Field Of View : 81.3 deg
Focal Length : 21.0 mm (35 mm equivalent: 21.0 mm)
Hyperfocal Distance : 1.33 m
Light Value : 12.6
Lens ID : Carl Zeiss Distagon T* 21mm f/2.8 ZE