Uber Exif Photo
Object Name : CZ Distagon 28/2
By-line : Nathan M Barnett
Copyright Notice : 2010 Nathan M Barnett
Make : Canon
Camera Model Name : Canon EOS REBEL T1i
Modify Date : 2011:03:02 14:44:50
Artist : Nathan M Barnett
Copyright : 2010 Nathan M Barnett
Exposure Time : 1/5
F Number : 2.0
Exposure Program : Manual
ISO : 100
Date/Time Original : 2011:01:15 17:10:13
Create Date : 2011:01:15 17:10:13
Shutter Speed Value : 1/5
Aperture Value : 2.0
Exposure Compensation : 0
Max Aperture Value : 2.0
Metering Mode : Multi-segment
Focal Length : 28.0 mm
Custom Rendered : Normal
Exposure Mode : Manual
White Balance : Auto
Scene Capture Type : Standard
Profile Description : sRGB IEC61966-2.1
Date/Time Digitized : 2011:01:15 17:10:13.51-08:00
Exif Image Width : 1024
Exif Image Height : 683
Rating : 5
Creator Tool : Adobe Photoshop Lightroom
Serial Number : 1070425154
Lens : 1-65535mm
Image Number : 0
Flash Compensation : 0
Owner Name : Nathan M Barnett
Firmware : 1.0.9
Version : 6.1
Process Version : 5.7
Color Temperature : 4850
Tint : +2
Exposure : -0.35
Shadows : 13
Brightness : +5
Contrast : +15
Saturation : +5
Sharpness : 25
Luminance Smoothing : 0
Color Noise Reduction : 25
Chromatic Aberration R : 0
Chromatic Aberration B : 0
Vignette Amount : 0
Shadow Tint : 0
Red Hue : 0
Red Saturation : 0
Green Hue : 0
Green Saturation : 0
Blue Hue : 0
Blue Saturation : 0
Fill Light : 25
Vibrance : +30
Highlight Recovery : 14
Clarity : +30
Defringe : 0
Hue Adjustment Red : 0
Hue Adjustment Orange : 0
Hue Adjustment Yellow : 0
Hue Adjustment Green : 0
Hue Adjustment Aqua : 0
Hue Adjustment Blue : 0
Hue Adjustment Purple : 0
Hue Adjustment Magenta : 0
Saturation Adjustment Red : 0
Saturation Adjustment Orange : 0
Saturation Adjustment Yellow : 0
Saturation Adjustment Green : 0
Saturation Adjustment Aqua : 0
Saturation Adjustment Blue : 0
Saturation Adjustment Purple : 0
Saturation Adjustment Magenta : 0
Luminance Adjustment Red : 0
Luminance Adjustment Orange : 0
Luminance Adjustment Yellow : 0
Luminance Adjustment Green : 0
Luminance Adjustment Aqua : 0
Luminance Adjustment Blue : 0
Luminance Adjustment Purple : 0
Luminance Adjustment Magenta : 0
Split Toning Shadow Hue : 0
Split Toning Shadow Saturation : 0
Split Toning Highlight Hue : 0
Split Toning Highlight Saturation : 0
Split Toning Balance : 0
Parametric Shadows : 0
Parametric Darks : 0
Parametric Lights : 0
Parametric Highlights : 0
Parametric Shadow Split : 25
Parametric Midtone Split : 50
Parametric Highlight Split : 75
Sharpen Radius : +1.0
Sharpen Detail : 25
Sharpen Edge Masking : 0
Post Crop Vignette Amount : 0
Grain Amount : 0
Color Noise Reduction Detail : 50
Lens Profile Enable : 0
Lens Manual Distortion Amount : 0
Perspective Vertical : 0
Perspective Horizontal : 0
Perspective Rotate : 0.0
Perspective Scale : 100
Convert To Grayscale : False
Tone Curve Name : Medium Contrast
Camera Profile : Adobe Standard
Lens Profile Setup : LensDefaults
Has Settings : True
Has Crop : False
Already Applied : True
Flash Fired : False
Flash Return : No return detection
Flash Mode : Off
Flash Function : False
Flash Red Eye Mode : False
Creator : Nathan M Barnett
Title : CZ Distagon 28/2
Rights : 2010 Nathan M Barnett
Tone Curve : 0, 0, 32, 22, 64, 56, 128, 128, 192, 196, 255, 255
Image Width : 300
Image Height : 200
Bits Per Sample : 8
Color Components : 3
Aperture : 2.0
Image Size : 300x200
Megapixels : 0.060
Scale Factor To 35 mm Equivalent : 1.6
Shutter Speed : 1/5
Create Date : 2011:01:15 17:10:13.51
Date/Time Original : 2011:01:15 17:10:13.51
Flash : Off, Did not fire
Circle Of Confusion : 0.019 mm
Field Of View : 44.1 deg
Focal Length : 28.0 mm (35 mm equivalent: 44.5 mm)
Hyperfocal Distance : 20.72 m
Light Value : 4.3
Lens ID : Canon EF 35-80mm f/4-5.6