Uber Exif Photo
By-line : Philip Northeast
Copyright Notice : Notheast Media
Copyright Flag : True
Make : PENTAX
Camera Model Name : PENTAX K-5
Software : Adobe Photoshop Lightroom 3.6 (Windows)
Modify Date : 2012:11:07 16:48:12
Artist : Philip Northeast
Copyright : Notheast Media
Exposure Time : 1/100
Exposure Program : Aperture-priority AE
ISO : 80
Date/Time Original : 2012:11:07 11:13:24
Create Date : 2012:11:07 11:13:24
Shutter Speed Value : 1/100
Exposure Compensation : -1
Metering Mode : Center-weighted average
Flash : Off, Did not fire
Focal Length : 50.0 mm
Sensing Method : One-chip color area
Custom Rendered : Normal
Exposure Mode : Manual
White Balance : Auto
Focal Length In 35mm Format : 75 mm
Scene Capture Type : Standard
Contrast : High
Saturation : Normal
Sharpness : Hard
Subject Distance Range : Unknown
Profile Description : sRGB IEC61966-2.1
Format : image/jpeg
Creator Tool : Adobe Photoshop Lightroom 3.6 (Windows)
Date Created : 2011:12:03
Marked : True
Version : 6.6
Process Version : 5.7
Color Temperature : 5500
Tint : +10
Exposure : 0.00
Shadows : 5
Brightness : +50
Luminance Smoothing : 0
Color Noise Reduction : 25
Chromatic Aberration R : 0
Chromatic Aberration B : 0
Vignette Amount : 0
Shadow Tint : 0
Red Hue : 0
Red Saturation : 0
Green Hue : 0
Green Saturation : 0
Blue Hue : 0
Blue Saturation : 0
Fill Light : 0
Vibrance : +29
Highlight Recovery : 0
Clarity : +56
Defringe : 0
Hue Adjustment Red : -5
Hue Adjustment Orange : -20
Hue Adjustment Yellow : 0
Hue Adjustment Green : 0
Hue Adjustment Aqua : 0
Hue Adjustment Blue : 0
Hue Adjustment Purple : 0
Hue Adjustment Magenta : -2
Saturation Adjustment Red : +41
Saturation Adjustment Orange : 0
Saturation Adjustment Yellow : 0
Saturation Adjustment Green : 0
Saturation Adjustment Aqua : 0
Saturation Adjustment Blue : 0
Saturation Adjustment Purple : 0
Saturation Adjustment Magenta : 0
Luminance Adjustment Red : -7
Luminance Adjustment Orange : -20
Luminance Adjustment Yellow : 0
Luminance Adjustment Green : 0
Luminance Adjustment Aqua : 0
Luminance Adjustment Blue : 0
Luminance Adjustment Purple : -7
Luminance Adjustment Magenta : -100
Split Toning Shadow Hue : 0
Split Toning Shadow Saturation : 0
Split Toning Highlight Hue : 0
Split Toning Highlight Saturation : 0
Split Toning Balance : 0
Parametric Shadows : 0
Parametric Darks : 0
Parametric Lights : 0
Parametric Highlights : 0
Parametric Shadow Split : 25
Parametric Midtone Split : 50
Parametric Highlight Split : 75
Sharpen Radius : +1.0
Sharpen Detail : 25
Sharpen Edge Masking : 0
Post Crop Vignette Amount : 0
Grain Amount : 0
Color Noise Reduction Detail : 50
Lens Profile Enable : 0
Lens Manual Distortion Amount : 0
Perspective Vertical : 0
Perspective Horizontal : 0
Perspective Rotate : 0.0
Perspective Scale : 100
Convert To Grayscale : False
Tone Curve Name : Medium Contrast
Camera Profile : Adobe Standard
Lens Profile Setup : LensDefaults
Has Settings : True
Crop Top : 0.120449
Crop Left : 0.106679
Crop Bottom : 0.887956
Crop Right : 0.874186
Crop Angle : 0
Crop Constrain To Warp : 0
Crop Width : 1024
Crop Height : 678
Crop Unit : pixels
Has Crop : True
Already Applied : True
Creator : Philip Northeast
Rights : Notheast Media
Usage Terms : All Rights Reserved - no copy without written permission
Creator Postal Code : 7010
Creator Work Telephone : 610408778754
Creator Region : Tasmania
Creator Country : Australia
Creator City : Glenorchy
Creator Work Email : northeastmedia@bigpond.com
Creator Address : 12 Verbena Pl
Creator Work URL : philnortheast.com
Tone Curve : 0, 0, 32, 22, 64, 56, 128, 128, 192, 196, 255, 255
Image Width : 300
Image Height : 199
Bits Per Sample : 8
Color Components : 3
Image Size : 300x199
Megapixels : 0.060
Scale Factor To 35 mm Equivalent : 1.5
Shutter Speed : 1/100
Circle Of Confusion : 0.020 mm
Field Of View : 27.0 deg
Focal Length : 50.0 mm (35 mm equivalent: 75.0 mm)
Lens ID : M-42 or No Lens