Uber Exif Photo
Caption-Abstract : Coney Island, NYC
By-line : Mike Peters
By-line Title : Photographer
Keywords : coney island, NYC, Hasselblad 2000 FCW, Fujicolor800z, Film, square
Copyright Notice : © Mike Peters 2010
Copyright Flag : True
Image Description : Coney Island, NYC
Orientation : Horizontal (normal)
Software : Adobe Photoshop CS4 Macintosh
Modify Date : 2010:06:16 22:01:35
Artist : Mike Peters
Copyright : © Mike Peters 2010
Color Space : sRGB
Exif Image Width : 1800
Exif Image Height : 1809
Profile Description : sRGB IEC61966-2.1
Rating : 0
Create Date : 2010:06:11 18:42:34-04:00
Raw File Name : 053110r03f12 coney R.tif
Version : 5.3
White Balance : Custom
Incremental Temperature : -8
Incremental Tint : +8
Exposure : -0.25
Shadows : 5
Brightness : +4
Contrast : -7
Saturation : 0
Sharpness : 50
Luminance Smoothing : 0
Color Noise Reduction : 100
Chromatic Aberration R : 0
Chromatic Aberration B : 0
Vignette Amount : -54
Vignette Midpoint : 15
Shadow Tint : 0
Red Hue : 0
Red Saturation : 0
Green Hue : 0
Green Saturation : 0
Blue Hue : 0
Blue Saturation : 0
Fill Light : 10
Vibrance : 0
Highlight Recovery : 0
Clarity : +35
Defringe : 0
Hue Adjustment Red : 0
Hue Adjustment Orange : 0
Hue Adjustment Yellow : 0
Hue Adjustment Green : 0
Hue Adjustment Aqua : 0
Hue Adjustment Blue : 0
Hue Adjustment Purple : 0
Hue Adjustment Magenta : 0
Saturation Adjustment Red : 0
Saturation Adjustment Orange : 0
Saturation Adjustment Yellow : 0
Saturation Adjustment Green : 0
Saturation Adjustment Aqua : 0
Saturation Adjustment Blue : 0
Saturation Adjustment Purple : 0
Saturation Adjustment Magenta : 0
Luminance Adjustment Red : 0
Luminance Adjustment Orange : 0
Luminance Adjustment Yellow : 0
Luminance Adjustment Green : 0
Luminance Adjustment Aqua : 0
Luminance Adjustment Blue : 0
Luminance Adjustment Purple : 0
Luminance Adjustment Magenta : 0
Split Toning Shadow Hue : 0
Split Toning Shadow Saturation : 0
Split Toning Highlight Hue : 0
Split Toning Highlight Saturation : 0
Split Toning Balance : 0
Parametric Shadows : 0
Parametric Darks : 0
Parametric Lights : 0
Parametric Highlights : 0
Parametric Shadow Split : 25
Parametric Midtone Split : 50
Parametric Highlight Split : 75
Sharpen Radius : +0.5
Sharpen Detail : 40
Sharpen Edge Masking : 0
Post Crop Vignette Amount : 0
Convert To Grayscale : False
Tone Curve Name : Linear
Camera Profile : Embedded
Has Settings : True
Crop Top : 0.008333
Crop Left : 0
Crop Bottom : 0.974982
Crop Right : 0.990185
Crop Angle : -0.481466
Has Crop : True
Already Applied : True
Format : image/jpeg
Color Mode : RGB
ICC Profile Name : sRGB IEC61966-2.1
Authors Position : Photographer
Marked : True
Tone Curve : 0, 0, 255, 255
Paint Correction What : Correction
Paint Correction Amount : 1.000000
Paint Correction Active : true
Paint Correction Exposure : 0.200000
Paint Correction Saturation : 0.000000
Paint Correction Contrast : 0.000000
Paint Correction Clarity : 0.000000
Paint Correction Sharpness : 0.000000
Paint Correction Brightness : 0.000000
Paint Correction Toning Hue : 0.000000
Paint Correction Toning Saturation : 0.000000
Paint Correction Mask What : Mask/Paint
Paint Correction Mask Value : 0.500000
Paint Correction Mask Radius : 0.120010
Paint Correction Mask Flow : 0.867470
Paint Correction Mask Center Weight : 0.280097
Rights : © Mike Peters 2010
Creator : Mike Peters
Description : Coney Island, NYC
Subject : coney island, NYC, Hasselblad 2000 FCW, Fujicolor800z, Film, square
Usage Terms : All rights reserved.
Creator Address : 189 Claremont Avenue
Creator City : Verona
Creator Region : NJ
Creator Postal Code : 07044
Creator Country : USA
Creator Work Telephone : 973 809 4762
Creator Work Email : mike@mikepeters.com
Creator Work URL : www.mikepeters.com
Image Width : 298
Image Height : 300
Bits Per Sample : 8
Color Components : 3
Image Size : 298x300
Megapixels : 0.089