Uber Exif Photo
Make : SONY
Camera Model Name : DSC-R1
Modify Date : 2009:12:29 12:36:01
Exposure Time : 1/5
F Number : 3.5
Exposure Program : Aperture-priority AE
ISO : 160
Date/Time Original : 2009:09:06 13:16:42
Create Date : 2009:09:06 13:16:42
Shutter Speed Value : 1/5
Aperture Value : 3.5
Exposure Compensation : -0.7
Max Aperture Value : 2.8
Metering Mode : Multi-segment
Light Source : Daylight
Focal Length : 14.3 mm
Scene Type : Directly photographed
Custom Rendered : Normal
Exposure Mode : Manual
White Balance : Manual
Scene Capture Type : Standard
Contrast : Normal
Saturation : Normal
Sharpness : Normal
Profile Description : sRGB IEC61966-2.1
Date/Time Digitized : 2009:09:06 13:16:42+02:00
Exif Image Height : 800
Exif Image Width : 1200
Rating : 3
Creator Tool : Adobe Photoshop Lightroom
Lens Info : 14.3-71.5mm f/2.8-4.8
Lens : 14.3-71.5 mm f/2.8-4.8
Version : 6.0
Render Version : 5.7
Color Temperature : 5750
Tint : +41
Exposure : +0.33
Shadows : 24
Brightness : +45
Color Noise Reduction : 25
Chromatic Aberration R : 0
Chromatic Aberration B : 0
Vignette Amount : -100
Vignette Midpoint : 20
Shadow Tint : 0
Red Hue : 0
Red Saturation : 0
Green Hue : 0
Green Saturation : 0
Blue Hue : 0
Blue Saturation : 0
Fill Light : 15
Vibrance : +100
Highlight Recovery : 100
Clarity : -27
Defringe : 0
Hue Adjustment Red : 0
Hue Adjustment Orange : 0
Hue Adjustment Yellow : 0
Hue Adjustment Green : 0
Hue Adjustment Aqua : 0
Hue Adjustment Blue : 0
Hue Adjustment Purple : 0
Hue Adjustment Magenta : 0
Saturation Adjustment Red : 0
Saturation Adjustment Orange : 0
Saturation Adjustment Yellow : 0
Saturation Adjustment Green : 0
Saturation Adjustment Aqua : 0
Saturation Adjustment Blue : 0
Saturation Adjustment Purple : 0
Saturation Adjustment Magenta : 0
Luminance Adjustment Red : 0
Luminance Adjustment Orange : 0
Luminance Adjustment Yellow : 0
Luminance Adjustment Green : 0
Luminance Adjustment Aqua : 0
Luminance Adjustment Blue : 0
Luminance Adjustment Purple : 0
Luminance Adjustment Magenta : 0
Split Toning Shadow Hue : 244
Split Toning Shadow Saturation : 38
Split Toning Highlight Hue : 55
Split Toning Highlight Saturation : 31
Split Toning Balance : +53
Parametric Shadows : +8
Parametric Darks : -2
Parametric Lights : +2
Parametric Highlights : 0
Parametric Shadow Split : 14
Parametric Midtone Split : 50
Parametric Highlight Split : 75
Sharpen Radius : +0.7
Sharpen Detail : 15
Sharpen Edge Masking : 0
Post Crop Vignette Amount : -100
Post Crop Vignette Midpoint : 5
Post Crop Vignette Feather : 62
Post Crop Vignette Roundness : -100
Post Crop Vignette Style : Highlight Priority
Post Crop Vignette Highlight Contrast : 0
Grain Amount : 0
Color Noise Reduction Detail : 50
Noise Reduction Contrast : 0
Convert To Grayscale : False
Tone Curve Name : Medium Contrast
Camera Profile : Adobe Standard
Has Settings : True
Crop Top : 0
Crop Left : 0.026764
Crop Bottom : 0.992508
Crop Right : 0.991434
Crop Angle : 0.756361
Crop Width : 1200
Crop Height : 800
Crop Unit : pixels
Has Crop : True
Already Applied : True
Flash Fired : False
Flash Return : No return detection
Flash Mode : Off
Flash Function : False
Flash Red Eye Mode : False
Tone Curve : 0, 0, 32, 22, 64, 56, 128, 128, 192, 196, 255, 255
Paint Correction What : Correction
Paint Correction Amount : 1.000000
Paint Correction Active : true
Paint Correction Exposure : 0.292035
Paint Correction Saturation : 0.000000
Paint Correction Contrast : 0.008850
Paint Correction Clarity : 0.000000
Paint Correction Sharpness : 0.000000
Paint Correction Brightness : 0.000000
Paint Correction Toning Hue : 50.000000
Paint Correction Toning Saturation : 0.000000
Paint Correction Mask What : Mask/Paint
Paint Correction Mask Value : 0.000000
Paint Correction Mask Radius : 0.034470
Paint Correction Mask Flow : 1.000000
Paint Correction Mask Center Weight : 0.000000
Image Width : 300
Image Height : 200
Bits Per Sample : 8
Color Components : 3
Aperture : 3.5
Image Size : 300x200
Megapixels : 0.060
Shutter Speed : 1/5
Flash : Off, Did not fire
Light Value : 5.3
Lens ID : 14.3-71.5mm f/2.8-4.8