Uber Exif Photo
Object Name : Silence
Keywords : Africa, Afrika, Coast, De Hoop, De Hoop Nature Reserve, Indian Ocean, National Park, Overberg DC, South Africa, West Coast, Western Cape, Zuid Afrika, ocean, outdoor, sea, sunrise
Province-State : Western Cape
Country-Primary Location Code : ZA
Country-Primary Location Name : Zuid-Afrika
Copyright Notice : www.jeroenflorijn.com
Caption-Abstract : Sunrise over the Indian Ocean, Western Cape, South Africa.
Image Description : Sunrise over the Indian Ocean, Western Cape, South Africa.
Make : Canon
Camera Model Name : Canon EOS 5D Mark III
Software : Adobe Photoshop Lightroom 6.7 (Macintosh)
Modify Date : 2016:10:02 08:06:47
Copyright : www.jeroenflorijn.com
Exposure Time : 8
F Number : 6.3
Exposure Program : Aperture-priority AE
ISO : 100
Sensitivity Type : Recommended Exposure Index
Recommended Exposure Index : 100
Date/Time Original : 2016:08:30 06:35:46
Create Date : 2016:08:30 06:35:46
Shutter Speed Value : 8
Aperture Value : 6.3
Exposure Compensation : 0
Max Aperture Value : 2.8
Metering Mode : Multi-segment
Flash : No Flash
Focal Length : 21.0 mm
Color Space : sRGB
Custom Rendered : Normal
Exposure Mode : Auto bracket
White Balance : Auto
Scene Capture Type : Standard
Serial Number : 043023010559
Lens Info : 21mm f/?
Lens Model : Zeiss Distagon T* 2.8/21 ZE
Lens Serial Number : 0000000000
GPS Version ID : 2.3.0.0
GPS Latitude Ref : South
GPS Longitude Ref : East
GPS Altitude Ref : Above Sea Level
GPS Time Stamp : 04:35:27
GPS Satellites : 12
GPS Status : Measurement Active
GPS Measure Mode : 3-Dimensional Measurement
GPS Dilution Of Precision : 2.1
GPS Speed : 0
GPS Track : 0
GPS Img Direction Ref : Magnetic North
GPS Img Direction : 56
GPS Map Datum : WGS-84
GPS Dest Bearing : 0
GPS Dest Distance : 0
GPS Date Stamp : 2016:08:30
GPS Differential : No Correction
Profile Description : sRGB IEC61966-2.1
Rating : 4
Creator Tool : Adobe Photoshop Lightroom 6.7 (Macintosh)
Format : image/jpeg
Lens : Zeiss Distagon T* 2.8/21 ZE
Image Number : 0
Flash Compensation : 0
Firmware : 1.3.3
Date Created : 2016:08:30 06:35:46.87
City : Overberg DC
State : Western Cape
Country : Zuid-Afrika
Country Code : ZA
Version : 9.7
Process Version : 6.7
Auto White Version : 134348800
Color Temperature : 8235
Tint : -4
Saturation : 0
Sharpness : 25
Luminance Smoothing : 0
Color Noise Reduction : 25
Vignette Amount : 0
Shadow Tint : 0
Red Hue : 0
Red Saturation : 0
Green Hue : 0
Green Saturation : 0
Blue Hue : 0
Blue Saturation : 0
Vibrance : +3
Hue Adjustment Red : 0
Hue Adjustment Orange : 0
Hue Adjustment Yellow : 0
Hue Adjustment Green : 0
Hue Adjustment Aqua : 0
Hue Adjustment Blue : 0
Hue Adjustment Purple : 0
Hue Adjustment Magenta : 0
Saturation Adjustment Red : 0
Saturation Adjustment Orange : 0
Saturation Adjustment Yellow : 0
Saturation Adjustment Green : 0
Saturation Adjustment Aqua : 0
Saturation Adjustment Blue : 0
Saturation Adjustment Purple : 0
Saturation Adjustment Magenta : 0
Luminance Adjustment Red : 0
Luminance Adjustment Orange : 0
Luminance Adjustment Yellow : 0
Luminance Adjustment Green : 0
Luminance Adjustment Aqua : 0
Luminance Adjustment Blue : 0
Luminance Adjustment Purple : 0
Luminance Adjustment Magenta : 0
Split Toning Shadow Hue : 239
Split Toning Shadow Saturation : 5
Split Toning Highlight Hue : 2
Split Toning Highlight Saturation : 7
Split Toning Balance : 0
Parametric Shadows : 0
Parametric Darks : -8
Parametric Lights : +8
Parametric Highlights : 0
Parametric Shadow Split : 25
Parametric Midtone Split : 50
Parametric Highlight Split : 75
Sharpen Radius : +1.0
Sharpen Detail : 25
Sharpen Edge Masking : 0
Post Crop Vignette Amount : 0
Grain Amount : 0
Color Noise Reduction Detail : 50
Color Noise Reduction Smoothness : 50
Lens Profile Enable : 0
Lens Manual Distortion Amount : 0
Perspective Vertical : 0
Perspective Horizontal : 0
Perspective Rotate : 0.0
Perspective Scale : 100
Perspective Aspect : 0
Perspective Upright : Off
Perspective X : 0.00
Perspective Y : 0.00
Auto Lateral CA : 0
Exposure 2012 : +0.70
Contrast 2012 : +5
Highlights 2012 : -15
Shadows 2012 : +19
Whites 2012 : +13
Blacks 2012 : 0
Clarity 2012 : +18
Defringe Purple Amount : 0
Defringe Purple Hue Lo : 30
Defringe Purple Hue Hi : 70
Defringe Green Amount : 0
Defringe Green Hue Lo : 40
Defringe Green Hue Hi : 60
Dehaze : 0
Tone Map Strength : 0
Convert To Grayscale : False
Tone Curve Name : Linear
Tone Curve Name 2012 : Linear
Camera Profile : Adobe Standard
Lens Profile Setup : LensDefaults
Has Settings : True
Crop Top : 0
Crop Left : 0.013761
Crop Bottom : 1
Crop Right : 0.986239
Crop Angle : 0.741893
Crop Constrain To Warp : 0
Has Crop : True
Already Applied : True
Title : Silence
Rights : www.jeroenflorijn.com
Description : Sunrise over the Indian Ocean, Western Cape, South Africa.
Subject : Africa, Afrika, Coast, De Hoop, De Hoop Nature Reserve, Indian Ocean, National Park, Overberg DC, South Africa, West Coast, Western Cape, Zuid Afrika, ocean, outdoor, sea, sunrise
Tone Curve : 0, 0, 255, 255
Tone Curve Red : 0, 0, 255, 255
Tone Curve Green : 0, 0, 255, 255
Tone Curve Blue : 0, 0, 255, 255
Tone Curve PV2012 : 0, 0, 255, 255
Tone Curve PV2012 Red : 0, 0, 255, 255
Tone Curve PV2012 Green : 0, 0, 255, 255
Tone Curve PV2012 Blue : 0, 0, 255, 255
Gradient Based Corr What : Correction
Gradient Based Corr Amount : 1.000000
Gradient Based Corr Active : true
Gradient Based Corr Saturation : 0.000000
Gradient Based Corr Sharpness : 0.000000
Gradient Based Corr Brightness : 0.000000
Gradient Based Corr Toning Hue : 0.367188
Gradient Based Corr Toning Saturation : 0.111992
Gradient Based Corr Exposure 2012 : -0.082500
Gradient Based Corr Contrast 2012 : 0.000000
Gradient Based Corr Highlights 2012 : -0.200000
Gradient Based Corr Shadows 2012 : 0.000000
Gradient Based Corr Whites 2012 : 0.000000
Gradient Based Corr Blacks 2012 : 0.000000
Gradient Based Corr Clarity 2012 : 0.000000
Gradient Based Corr Dehaze : 0.000000
Gradient Based Corr Luminance Noise : 0.000000
Gradient Based Corr Moire : 0.000000
Gradient Based Corr Defringe : 0.000000
Gradient Based Corr Temperature : 0.000000
Gradient Based Corr Tint : 0.000000
Gradient Based Corr Mask What : Mask/Gradient
Gradient Based Corr Mask Value : 1.000000
Gradient Based Corr Mask Zero X : 0.631008
Gradient Based Corr Mask Zero Y : 0.529725
Gradient Based Corr Mask Full X : 0.631861
Gradient Based Corr Mask Full Y : 0.430827
Circ Grad Based Corr What : Correction
Circ Grad Based Corr Amount : 1.000000
Circ Grad Based Corr Active : true
Circ Grad Based Corr Saturation : 0.000000
Circ Grad Based Corr Sharpness : 0.000000
Circ Grad Based Corr Brightness : 0.000000
Circ Grad Based Corr Toning Hue : 0.957031
Circ Grad Based Corr Toning Saturation : 0.071563
Circ Grad Based Corr Exposure 2012 : 0.082500
Circ Grad Based Corr Contrast 2012 : 0.000000
Circ Grad Based Corr Highlights 2012 : 0.000000
Circ Grad Based Corr Shadows 2012 : 0.200000
Circ Grad Based Corr Whites 2012 : 0.000000
Circ Grad Based Corr Blacks 2012 : 0.000000
Circ Grad Based Corr Clarity 2012 : 0.000000
Circ Grad Based Corr Dehaze : 0.000000
Circ Grad Based Corr Luminance Noise : 0.000000
Circ Grad Based Corr Moire : 0.000000
Circ Grad Based Corr Defringe : 0.000000
Circ Grad Based Corr Temperature : 0.000000
Circ Grad Based Corr Tint : 0.000000
Circ Grad Based Corr Mask What : Mask/CircularGradient
Circ Grad Based Corr Mask Value : 1.000000
Circ Grad Based Corr Mask Top : 0.510715
Circ Grad Based Corr Mask Left : -0.432885
Circ Grad Based Corr Mask Bottom : 1.068650
Circ Grad Based Corr Mask Right : 1.323210
Circ Grad Based Corr Mask Angle : 0.741893
Circ Grad Based Corr Mask Midpoint : +50
Circ Grad Based Corr Mask Roundness : 0
Circ Grad Based Corr Mask Feather : +50
Circ Grad Based Corr Mask Flipped : true
Circ Grad Based Corr Mask Version : +2
Image Width : 300
Image Height : 200
Bits Per Sample : 8
Color Components : 3
Aperture : 6.3
Image Size : 300x200
Megapixels : 0.060
Scale Factor To 35 mm Equivalent : 19.2
Shutter Speed : 8
Create Date : 2016:08:30 06:35:46.87
Date/Time Original : 2016:08:30 06:35:46.87
GPS Altitude : 12.3 m Above Sea Level
GPS Date/Time : 2016:08:30 04:35:27Z
GPS Latitude : 34 deg 28' 44.93" S
GPS Longitude : 20 deg 30' 32.80" E
Circle Of Confusion : 0.002 mm
Field Of View : 5.1 deg
Focal Length : 21.0 mm (35 mm equivalent: 403.2 mm)
GPS Position : 34 deg 28' 44.93" S, 20 deg 30' 32.80" E
Hyperfocal Distance : 44.73 m
Light Value : 2.3
Lens ID : Carl Zeiss Distagon T* 21mm f/2.8 ZE