Uber Exif Photo
Object Name : Waves
Keywords : Africa, De Hoop, De Hoop Nature Reserve, Indian Ocean, South Africa, West Coast, Zuid Afrika, landscape, nature, ocean, rock, water, waves
Province-State : Western Cape
Country-Primary Location Code : ZA
Country-Primary Location Name : Zuid-Afrika
Copyright Notice : www.jeroenflorijn.com
Caption-Abstract : Waves over the rocky coast of De Hoop Nature Reserve, South Africa.
Image Description : Waves over the rocky coast of De Hoop Nature Reserve, South Africa.
Make : Canon
Camera Model Name : Canon EOS 5D Mark III
Software : Adobe Photoshop Lightroom 6.6.1 (Macintosh)
Modify Date : 2016:10:01 15:26:48
Copyright : www.jeroenflorijn.com
Exposure Time : 1.6
F Number : 5.0
Exposure Program : Aperture-priority AE
ISO : 320
Sensitivity Type : Recommended Exposure Index
Recommended Exposure Index : 320
Date/Time Original : 2016:08:29 17:12:46
Create Date : 2016:08:29 17:12:46
Shutter Speed Value : 1.6
Aperture Value : 5.0
Exposure Compensation : 0
Max Aperture Value : 1.4
Metering Mode : Multi-segment
Flash : No Flash
Focal Length : 35.0 mm
Color Space : sRGB
Custom Rendered : Normal
Exposure Mode : Auto
White Balance : Auto
Scene Capture Type : Standard
Serial Number : 043023010559
Lens Info : 35mm f/?
Lens Model : Zeiss Distagon T* 1.4/35 ZE
Lens Serial Number : 0000000000
GPS Version ID : 2.3.0.0
GPS Latitude Ref : South
GPS Longitude Ref : East
GPS Altitude Ref : Above Sea Level
GPS Time Stamp : 15:12:31
GPS Satellites : 12
GPS Status : Measurement Active
GPS Measure Mode : 3-Dimensional Measurement
GPS Dilution Of Precision : 1.9
GPS Speed : 0
GPS Track : 0
GPS Img Direction Ref : Magnetic North
GPS Img Direction : 34
GPS Map Datum : WGS-84
GPS Dest Bearing : 0
GPS Dest Distance : 0
GPS Date Stamp : 2016:08:29
GPS Differential : No Correction
Profile Description : sRGB IEC61966-2.1
Rating : 3
Creator Tool : Adobe Photoshop Lightroom 6.6.1 (Macintosh)
Format : image/jpeg
Lens : Zeiss Distagon T* 1.4/35 ZE
Image Number : 0
Flash Compensation : 0
Firmware : 1.3.3
Date Created : 2016:08:29 17:12:46.64
City : Overberg DC
State : Western Cape
Country : Zuid-Afrika
Country Code : ZA
Version : 9.6
Process Version : 6.7
Auto White Version : 134348800
Color Temperature : 9661
Tint : +56
Saturation : 0
Sharpness : 25
Luminance Smoothing : 0
Color Noise Reduction : 25
Vignette Amount : 0
Shadow Tint : 0
Red Hue : 0
Red Saturation : 0
Green Hue : 0
Green Saturation : 0
Blue Hue : 0
Blue Saturation : 0
Vibrance : +5
Hue Adjustment Red : 0
Hue Adjustment Orange : 0
Hue Adjustment Yellow : 0
Hue Adjustment Green : 0
Hue Adjustment Aqua : 0
Hue Adjustment Blue : 0
Hue Adjustment Purple : 0
Hue Adjustment Magenta : 0
Saturation Adjustment Red : 0
Saturation Adjustment Orange : 0
Saturation Adjustment Yellow : 0
Saturation Adjustment Green : 0
Saturation Adjustment Aqua : 0
Saturation Adjustment Blue : 0
Saturation Adjustment Purple : 0
Saturation Adjustment Magenta : 0
Luminance Adjustment Red : 0
Luminance Adjustment Orange : +4
Luminance Adjustment Yellow : +4
Luminance Adjustment Green : 0
Luminance Adjustment Aqua : 0
Luminance Adjustment Blue : 0
Luminance Adjustment Purple : 0
Luminance Adjustment Magenta : 0
Split Toning Shadow Hue : 0
Split Toning Shadow Saturation : 0
Split Toning Highlight Hue : 0
Split Toning Highlight Saturation : 0
Split Toning Balance : 0
Parametric Shadows : 0
Parametric Darks : -20
Parametric Lights : +20
Parametric Highlights : 0
Parametric Shadow Split : 25
Parametric Midtone Split : 50
Parametric Highlight Split : 75
Sharpen Radius : +1.0
Sharpen Detail : 25
Sharpen Edge Masking : 0
Post Crop Vignette Amount : -5
Post Crop Vignette Midpoint : 50
Post Crop Vignette Feather : 50
Post Crop Vignette Roundness : 0
Post Crop Vignette Style : Highlight Priority
Post Crop Vignette Highlight Contrast : 0
Grain Amount : 0
Color Noise Reduction Detail : 50
Color Noise Reduction Smoothness : 50
Lens Profile Enable : 1
Lens Manual Distortion Amount : 0
Perspective Vertical : 0
Perspective Horizontal : 0
Perspective Rotate : 0.0
Perspective Scale : 100
Perspective Aspect : 0
Perspective Upright : Off
Perspective X : 0.00
Perspective Y : 0.00
Auto Lateral CA : 1
Exposure 2012 : -0.30
Contrast 2012 : +4
Highlights 2012 : -12
Shadows 2012 : +11
Whites 2012 : +19
Blacks 2012 : +4
Clarity 2012 : +24
Defringe Purple Amount : 0
Defringe Purple Hue Lo : 30
Defringe Purple Hue Hi : 70
Defringe Green Amount : 0
Defringe Green Hue Lo : 40
Defringe Green Hue Hi : 60
Dehaze : 0
Tone Map Strength : 0
Convert To Grayscale : False
Tone Curve Name : Linear
Tone Curve Name 2012 : Linear
Camera Profile : Adobe Standard
Lens Profile Setup : LensDefaults
Lens Profile Name : Adobe (Zeiss Distagon T* 1,4/35 ZE)
Lens Profile Filename : Canon (Zeiss Distagon T 35 f14 ZE) - RAW.lcp
Lens Profile Distortion Scale : 100
Lens Profile Chromatic Aberration Scale : 100
Lens Profile Vignetting Scale : 100
Has Settings : True
Crop Top : 0.04802
Crop Left : 0.041062
Crop Bottom : 0.989565
Crop Right : 0.997101
Crop Angle : -0.402773
Crop Constrain To Warp : 0
Has Crop : True
Already Applied : True
Title : Waves
Rights : www.jeroenflorijn.com
Description : Waves over the rocky coast of De Hoop Nature Reserve, South Africa.
Subject : Africa, De Hoop, De Hoop Nature Reserve, Indian Ocean, South Africa, West Coast, Zuid Afrika, landscape, nature, ocean, rock, water, waves
Tone Curve : 0, 0, 255, 255
Tone Curve Red : 0, 0, 255, 255
Tone Curve Green : 0, 0, 255, 255
Tone Curve Blue : 0, 0, 255, 255
Tone Curve PV2012 : 0, 0, 255, 255
Tone Curve PV2012 Red : 0, 0, 255, 255
Tone Curve PV2012 Green : 0, 0, 255, 255
Tone Curve PV2012 Blue : 0, 0, 255, 255
Paint Correction What : Correction
Paint Correction Amount : 1.000000
Paint Correction Active : true
Paint Correction Saturation : 0.000000
Paint Correction Sharpness : 0.052632
Paint Correction Brightness : 0.000000
Paint Correction Toning Hue : 240.000000
Paint Correction Toning Saturation : 0.000000
Paint Correction Exposure 2012 : 0.050000
Paint Correction Contrast 2012 : 0.020000
Paint Correction Highlights 2012 : 0.000000
Paint Correction Shadows 2012 : -0.016904
Paint Correction Whites 2012 : 0.000000
Paint Correction Blacks 2012 : 0.000000
Paint Correction Clarity 2012 : 0.066795
Paint Correction Dehaze : 0.000000
Paint Correction Luminance Noise : 0.000000
Paint Correction Moire : 0.000000
Paint Correction Defringe : 0.000000
Paint Correction Temperature : 0.000000
Paint Correction Tint : 0.000000
Paint Correction Mask What : Mask/Paint
Paint Correction Mask Value : 1.000000
Paint Correction Mask Radius : 0.023257
Paint Correction Mask Flow : 1.000000
Paint Correction Mask Center Weight : 0.000000
Gradient Based Corr What : Correction
Gradient Based Corr Amount : 1.000000
Gradient Based Corr Active : true
Gradient Based Corr Saturation : 0.000000
Gradient Based Corr Sharpness : 0.000000
Gradient Based Corr Brightness : 0.000000
Gradient Based Corr Toning Hue : 240.000000
Gradient Based Corr Toning Saturation : 0.000000
Gradient Based Corr Exposure 2012 : 0.082500
Gradient Based Corr Contrast 2012 : 0.000000
Gradient Based Corr Highlights 2012 : 0.000000
Gradient Based Corr Shadows 2012 : 0.097451
Gradient Based Corr Whites 2012 : 0.000000
Gradient Based Corr Blacks 2012 : 0.000000
Gradient Based Corr Clarity 2012 : 0.000000
Gradient Based Corr Dehaze : 0.000000
Gradient Based Corr Luminance Noise : 0.000000
Gradient Based Corr Moire : 0.000000
Gradient Based Corr Defringe : 0.000000
Gradient Based Corr Temperature : 0.000000
Gradient Based Corr Tint : 0.000000
Gradient Based Corr Mask What : Mask/Gradient
Gradient Based Corr Mask Value : 1.000000
Gradient Based Corr Mask Zero X : 0.521399
Gradient Based Corr Mask Zero Y : 0.375375
Gradient Based Corr Mask Full X : 0.538748
Gradient Based Corr Mask Full Y : 0.484996
Circ Grad Based Corr What : Correction
Circ Grad Based Corr Amount : 1.000000
Circ Grad Based Corr Active : true
Circ Grad Based Corr Saturation : 0.000000
Circ Grad Based Corr Sharpness : 0.000000
Circ Grad Based Corr Brightness : 0.000000
Circ Grad Based Corr Toning Hue : 240.000000
Circ Grad Based Corr Toning Saturation : 0.000000
Circ Grad Based Corr Exposure 2012 : -0.082657
Circ Grad Based Corr Contrast 2012 : 0.000000
Circ Grad Based Corr Highlights 2012 : 0.000000
Circ Grad Based Corr Shadows 2012 : 0.000000
Circ Grad Based Corr Whites 2012 : 0.000000
Circ Grad Based Corr Blacks 2012 : 0.000000
Circ Grad Based Corr Clarity 2012 : 0.000000
Circ Grad Based Corr Dehaze : 0.000000
Circ Grad Based Corr Luminance Noise : 0.000000
Circ Grad Based Corr Moire : 0.000000
Circ Grad Based Corr Defringe : 0.000000
Circ Grad Based Corr Temperature : 0.000000
Circ Grad Based Corr Tint : 0.000000
Circ Grad Based Corr Mask What : Mask/CircularGradient
Circ Grad Based Corr Mask Value : 1.000000
Circ Grad Based Corr Mask Top : 0.514976
Circ Grad Based Corr Mask Left : -0.048066
Circ Grad Based Corr Mask Bottom : 0.949627
Circ Grad Based Corr Mask Right : 0.508526
Circ Grad Based Corr Mask Angle : -0.402773
Circ Grad Based Corr Mask Midpoint : +50
Circ Grad Based Corr Mask Roundness : 0
Circ Grad Based Corr Mask Feather : +50
Circ Grad Based Corr Mask Flipped : false
Circ Grad Based Corr Mask Version : +2
Image Width : 300
Image Height : 200
Bits Per Sample : 8
Color Components : 3
Aperture : 5.0
Image Size : 300x200
Megapixels : 0.060
Scale Factor To 35 mm Equivalent : 19.2
Shutter Speed : 1.6
Create Date : 2016:08:29 17:12:46.64
Date/Time Original : 2016:08:29 17:12:46.64
GPS Altitude : 0.7 m Above Sea Level
GPS Date/Time : 2016:08:29 15:12:31Z
GPS Latitude : 34 deg 28' 40.73" S
GPS Longitude : 20 deg 30' 47.26" E
Circle Of Confusion : 0.002 mm
Field Of View : 3.1 deg
Focal Length : 35.0 mm (35 mm equivalent: 672.0 mm)
GPS Position : 34 deg 28' 40.73" S, 20 deg 30' 47.26" E
Hyperfocal Distance : 156.56 m
Light Value : 2.3
Lens ID : Carl Zeiss Distagon T* 35mm f/1.4 ZE