Uber Exif Photo
By-line : Jeroen Florijn
Copyright Notice : www.jeroenflorijn.com
Make : Canon
Camera Model Name : Canon EOS 5D Mark III
Software : Adobe Photoshop Lightroom 5.7 (Macintosh)
Modify Date : 2014:11:28 08:18:56
Artist : Jeroen Florijn
Copyright : www.jeroenflorijn.com
Exposure Time : 1/50
F Number : 8.0
Exposure Program : Aperture-priority AE
ISO : 100
Sensitivity Type : Recommended Exposure Index
Recommended Exposure Index : 100
Date/Time Original : 2014:11:05 08:14:45
Create Date : 2014:11:05 08:14:45
Shutter Speed Value : 1/50
Aperture Value : 8.0
Exposure Compensation : 0
Max Aperture Value : 1.4
Metering Mode : Multi-segment
Flash : No Flash
Focal Length : 55.0 mm
Color Space : sRGB
Custom Rendered : Normal
Exposure Mode : Auto bracket
White Balance : Auto
Scene Capture Type : Standard
Serial Number : 043023010559
Lens Info : 55mm f/?
Lens Model : Zeiss Otus 1.4/55 ZE
Lens Serial Number : 0000000000
Profile Description : sRGB IEC61966-2.1
Creator Tool : Adobe Photoshop Lightroom 5.7 (Macintosh)
Format : image/jpeg
Lens : Zeiss Otus 1.4/55 ZE
Image Number : 0
Flash Compensation : 0
Firmware : 1.2.3
Date Created : 2014:11:05 08:14:45.14
Version : 8.7
Process Version : 6.7
Auto White Version : 134348800
Color Temperature : 5600
Tint : +15
Saturation : 0
Sharpness : 50
Luminance Smoothing : 0
Color Noise Reduction : 25
Vignette Amount : 0
Shadow Tint : 0
Red Hue : 0
Red Saturation : 0
Green Hue : 0
Green Saturation : 0
Blue Hue : 0
Blue Saturation : 0
Vibrance : +9
Hue Adjustment Red : 0
Hue Adjustment Orange : 0
Hue Adjustment Yellow : 0
Hue Adjustment Green : 0
Hue Adjustment Aqua : 0
Hue Adjustment Blue : 0
Hue Adjustment Purple : 0
Hue Adjustment Magenta : 0
Saturation Adjustment Red : 0
Saturation Adjustment Orange : 0
Saturation Adjustment Yellow : 0
Saturation Adjustment Green : 0
Saturation Adjustment Aqua : 0
Saturation Adjustment Blue : 0
Saturation Adjustment Purple : 0
Saturation Adjustment Magenta : 0
Luminance Adjustment Red : 0
Luminance Adjustment Orange : 0
Luminance Adjustment Yellow : 0
Luminance Adjustment Green : 0
Luminance Adjustment Aqua : 0
Luminance Adjustment Blue : 0
Luminance Adjustment Purple : 0
Luminance Adjustment Magenta : 0
Split Toning Shadow Hue : 0
Split Toning Shadow Saturation : 0
Split Toning Highlight Hue : 0
Split Toning Highlight Saturation : 0
Split Toning Balance : 0
Parametric Shadows : 0
Parametric Darks : 0
Parametric Lights : 0
Parametric Highlights : 0
Parametric Shadow Split : 25
Parametric Midtone Split : 50
Parametric Highlight Split : 75
Sharpen Radius : +0.8
Sharpen Detail : 70
Sharpen Edge Masking : 30
Post Crop Vignette Amount : -9
Post Crop Vignette Midpoint : 50
Post Crop Vignette Feather : 50
Post Crop Vignette Roundness : 0
Post Crop Vignette Style : Highlight Priority
Post Crop Vignette Highlight Contrast : 0
Grain Amount : 0
Color Noise Reduction Detail : 50
Color Noise Reduction Smoothness : 50
Lens Profile Enable : 1
Lens Manual Distortion Amount : 0
Perspective Vertical : 0
Perspective Horizontal : 0
Perspective Rotate : 0.0
Perspective Scale : 100
Perspective Aspect : 0
Perspective Upright : Off
Auto Lateral CA : 0
Exposure 2012 : 0.00
Contrast 2012 : 0
Highlights 2012 : -15
Shadows 2012 : +22
Whites 2012 : +8
Blacks 2012 : +20
Clarity 2012 : +15
Defringe Purple Amount : 0
Defringe Purple Hue Lo : 30
Defringe Purple Hue Hi : 70
Defringe Green Amount : 0
Defringe Green Hue Lo : 40
Defringe Green Hue Hi : 60
Convert To Grayscale : False
Tone Curve Name : Linear
Tone Curve Name 2012 : Medium Contrast
Camera Profile : Canon EOS 5D Mark III
Lens Profile Setup : LensDefaults
Lens Profile Name : Adobe (Zeiss Otus 1.4/55 ZE)
Lens Profile Filename : Canon (Zeiss Otus 55 f14 ZE) - RAW.lcp
Lens Profile Distortion Scale : 100
Lens Profile Chromatic Aberration Scale : 100
Lens Profile Vignetting Scale : 100
Has Settings : True
Crop Top : 0.104085
Crop Left : 0.000001
Crop Bottom : 0.982212
Crop Right : 0.878128
Crop Angle : 0
Crop Constrain To Warp : 0
Has Crop : True
Already Applied : True
Creator : Jeroen Florijn
Rights : www.jeroenflorijn.com
Creator Work URL : jeroenflorijn.nl
Creator Country : Nederland
Creator Work Email : jeroen.anita@ziggo.nl
Tone Curve : 0, 0, 255, 255
Tone Curve Red : 0, 0, 255, 255
Tone Curve Green : 0, 0, 255, 255
Tone Curve Blue : 0, 0, 255, 255
Tone Curve PV2012 : 0, 0, 32, 22, 64, 56, 128, 128, 192, 196, 255, 255
Tone Curve PV2012 Red : 0, 0, 255, 255
Tone Curve PV2012 Green : 0, 0, 255, 255
Tone Curve PV2012 Blue : 0, 0, 255, 255
Circ Grad Based Corr What : Correction
Circ Grad Based Corr Amount : 1.000000
Circ Grad Based Corr Active : true
Circ Grad Based Corr Saturation : 0.000000
Circ Grad Based Corr Sharpness : 0.000000
Circ Grad Based Corr Brightness : 0.000000
Circ Grad Based Corr Toning Hue : 240.000000
Circ Grad Based Corr Toning Saturation : 0.000000
Circ Grad Based Corr Exposure 2012 : 0.082500
Circ Grad Based Corr Contrast 2012 : 0.000000
Circ Grad Based Corr Highlights 2012 : 0.000000
Circ Grad Based Corr Shadows 2012 : 0.200000
Circ Grad Based Corr Clarity 2012 : 0.000000
Circ Grad Based Corr Luminance Noise : 0.000000
Circ Grad Based Corr Moire : 0.000000
Circ Grad Based Corr Defringe : 0.000000
Circ Grad Based Corr Temperature : 0.000000
Circ Grad Based Corr Tint : 0.000000
Circ Grad Based Corr Mask What : Mask/CircularGradient
Circ Grad Based Corr Mask Value : 1.000000
Circ Grad Based Corr Mask Top : 0.545760
Circ Grad Based Corr Mask Left : 0.533431
Circ Grad Based Corr Mask Bottom : 0.640664
Circ Grad Based Corr Mask Right : 0.611379
Circ Grad Based Corr Mask Angle : -26.250400
Circ Grad Based Corr Mask Midpoint : +50
Circ Grad Based Corr Mask Roundness : 0
Circ Grad Based Corr Mask Feather : +50
Circ Grad Based Corr Mask Flipped : true
Circ Grad Based Corr Mask Version : +2
Image Width : 300
Image Height : 200
Bits Per Sample : 8
Color Components : 3
Aperture : 8.0
Image Size : 300x200
Megapixels : 0.060
Scale Factor To 35 mm Equivalent : 19.2
Shutter Speed : 1/50
Create Date : 2014:11:05 08:14:45.14
Date/Time Original : 2014:11:05 08:14:45.14
Circle Of Confusion : 0.002 mm
Field Of View : 2.0 deg
Focal Length : 55.0 mm (35 mm equivalent: 1056.0 mm)
Hyperfocal Distance : 241.63 m
Light Value : 11.6
Lens ID : Zeiss Otus 55mm f/1.4 ZE