Uber Exif Photo
Caption-Abstract : SONY DSC
Image Description : SONY DSC
Make : SONY
Camera Model Name : DSLR-A850
Orientation : Horizontal (normal)
Software : Adobe Photoshop CS5 Windows
Modify Date : 2010:11:30 21:02:13
Exposure Time : 1/40
F Number : 2.8
Exposure Program : Manual
ISO : 1600
Sensitivity Type : Unknown
Date/Time Original : 2010:11:17 18:49:41
Create Date : 2010:11:17 18:49:41
Shutter Speed Value : 1/40
Aperture Value : 2.8
Brightness Value : -0.63
Exposure Compensation : 0
Max Aperture Value : 2.8
Metering Mode : Center-weighted average
Light Source : Unknown
Flash : Off, Did not fire
Focal Length : 60.0 mm
Color Space : sRGB
Exif Image Width : 1024
Exif Image Height : 683
Scene Type : Directly photographed
Custom Rendered : Normal
Exposure Mode : Manual
White Balance : Auto
Focal Length In 35mm Format : 60 mm
Scene Capture Type : Standard
Contrast : Normal
Saturation : Normal
Sharpness : Normal
Lens Info : 24-70mm f/2.8
Lens Model : 24-70mm F2.8 ZA SSM
Profile Description : sRGB IEC61966-2.1
Creator Tool : Adobe Photoshop CS5 Windows
Rating : 0
Format : image/jpeg
Lens : 24-70mm F2.8 ZA SSM
Raw File Name : DSC03519.ARW
Version : 6.2
Process Version : 5.0
Color Temperature : 2850
Tint : 0
Exposure : 0.00
Shadows : 2
Brightness : +47
Luminance Smoothing : 0
Color Noise Reduction : 25
Chromatic Aberration R : 0
Chromatic Aberration B : 0
Vignette Amount : 0
Shadow Tint : 0
Red Hue : 0
Red Saturation : 0
Green Hue : 0
Green Saturation : 0
Blue Hue : 0
Blue Saturation : 0
Fill Light : 24
Vibrance : +14
Highlight Recovery : 31
Clarity : +13
Defringe : 0
Hue Adjustment Red : 0
Hue Adjustment Orange : 0
Hue Adjustment Yellow : 0
Hue Adjustment Green : 0
Hue Adjustment Aqua : 0
Hue Adjustment Blue : 0
Hue Adjustment Purple : 0
Hue Adjustment Magenta : 0
Saturation Adjustment Red : 0
Saturation Adjustment Orange : 0
Saturation Adjustment Yellow : 0
Saturation Adjustment Green : 0
Saturation Adjustment Aqua : 0
Saturation Adjustment Blue : 0
Saturation Adjustment Purple : 0
Saturation Adjustment Magenta : 0
Luminance Adjustment Red : 0
Luminance Adjustment Orange : 0
Luminance Adjustment Yellow : 0
Luminance Adjustment Green : 0
Luminance Adjustment Aqua : 0
Luminance Adjustment Blue : 0
Luminance Adjustment Purple : 0
Luminance Adjustment Magenta : 0
Split Toning Shadow Hue : 0
Split Toning Shadow Saturation : 0
Split Toning Highlight Hue : 0
Split Toning Highlight Saturation : 0
Split Toning Balance : 0
Parametric Shadows : 0
Parametric Darks : 0
Parametric Lights : 0
Parametric Highlights : 0
Parametric Shadow Split : 25
Parametric Midtone Split : 50
Parametric Highlight Split : 75
Sharpen Radius : +1.0
Sharpen Detail : 25
Sharpen Edge Masking : 0
Post Crop Vignette Amount : 0
Grain Amount : 0
Lens Profile Enable : 0
Lens Manual Distortion Amount : 0
Perspective Vertical : 0
Perspective Horizontal : 0
Perspective Rotate : 0.0
Perspective Scale : 100
Convert To Grayscale : False
Tone Curve Name : Medium Contrast
Camera Profile : Adobe Standard
Lens Profile Setup : LensDefaults
Has Settings : True
Has Crop : False
Already Applied : True
Sidecar For Extension : ARW
Color Mode : RGB
ICC Profile Name : sRGB IEC61966-2.1
Date Created : 2010:11:17 18:49:41
Description : SONY DSC
Tone Curve : 0, 0, 32, 22, 64, 56, 128, 128, 192, 196, 255, 255
Image Width : 300
Image Height : 200
Bits Per Sample : 8
Color Components : 3
Aperture : 2.8
Image Size : 300x200
Megapixels : 0.060
Scale Factor To 35 mm Equivalent : 1.0
Shutter Speed : 1/40
Circle Of Confusion : 0.030 mm
Field Of View : 33.4 deg
Focal Length : 60.0 mm (35 mm equivalent: 60.0 mm)
Hyperfocal Distance : 42.79 m
Light Value : 4.3
Lens ID : Carl Zeiss Vario-Sonnar T* 24-70mm F2.8 ZA SSM (SAL2470Z) or Carl Zeiss Vario-Sonnar T* 24-70mm F2.8 ZA SSM II (SAL2470Z2) or Tamron SP 24-70mm F2.8 Di USD