Uber Exif Photo
By-line : Ekin Photography
Keywords : 5D Mark II, California, Canon, Canon 5D Mark II, Carl Zeiss, Ekin Photography, MF, Manual Focus, Places, San Fran CA, San Francisco, Travel
Copyright Notice : Ekin Photography
URL : www.ekinphotography.com
Photometric Interpretation : RGB
Make : Canon
Camera Model Name : Canon EOS 5D Mark II
Orientation : Horizontal (normal)
Samples Per Pixel : 3
Software : Adobe Photoshop CS5 Windows
Modify Date : 2010:09:09 23:26:50
Artist : Ekin Photography
Copyright : Ekin Photography
Exposure Time : 1/640
F Number : 7.1
Exposure Program : Aperture-priority AE
ISO : 400
Date/Time Original : 2010:09:04 15:04:37
Create Date : 2010:09:04 15:04:37
Shutter Speed Value : 1/640
Aperture Value : 7.1
Exposure Compensation : +1/3
Max Aperture Value : 2.8
Metering Mode : Multi-segment
Flash : Off, Did not fire
Focal Length : 21.0 mm
Color Space : sRGB
Exif Image Width : 616
Exif Image Height : 1024
Custom Rendered : Normal
Exposure Mode : Auto
White Balance : Manual
Scene Capture Type : Standard
Profile Description : sRGB IEC61966-2.1
Creator Tool : Adobe Photoshop Lightroom
Serial Number : 320212923
Lens Info : 21mm f/?
Lens : Zeiss Distagon T* 2.8/21 ZE
Image Number : 0
Flash Compensation : 0
Owner Name : Ekin
Firmware : 2.0.4
Web Statement : www.ekinphotography.com
Version : 6.1
Process Version : 5.7
Color Temperature : 5103
Tint : +1
Exposure : -0.10
Shadows : 14
Brightness : +50
Contrast : +25
Saturation : -14
Sharpness : 48
Luminance Smoothing : 0
Color Noise Reduction : 25
Chromatic Aberration R : 0
Chromatic Aberration B : 0
Vignette Amount : -43
Vignette Midpoint : 6
Shadow Tint : 0
Red Hue : 0
Red Saturation : 0
Green Hue : 0
Green Saturation : 0
Blue Hue : 0
Blue Saturation : 0
Fill Light : 7
Vibrance : +24
Highlight Recovery : 9
Clarity : -10
Defringe : 0
Hue Adjustment Red : 0
Hue Adjustment Orange : 0
Hue Adjustment Yellow : 0
Hue Adjustment Green : 0
Hue Adjustment Aqua : 0
Hue Adjustment Blue : 0
Hue Adjustment Purple : 0
Hue Adjustment Magenta : 0
Saturation Adjustment Red : -7
Saturation Adjustment Orange : -5
Saturation Adjustment Yellow : -10
Saturation Adjustment Green : 0
Saturation Adjustment Aqua : 0
Saturation Adjustment Blue : -20
Saturation Adjustment Purple : -1
Saturation Adjustment Magenta : 0
Luminance Adjustment Red : 0
Luminance Adjustment Orange : 0
Luminance Adjustment Yellow : 0
Luminance Adjustment Green : 0
Luminance Adjustment Aqua : 0
Luminance Adjustment Blue : -30
Luminance Adjustment Purple : -2
Luminance Adjustment Magenta : 0
Split Toning Shadow Hue : 0
Split Toning Shadow Saturation : 0
Split Toning Highlight Hue : 0
Split Toning Highlight Saturation : 0
Split Toning Balance : 0
Parametric Shadows : +33
Parametric Darks : -26
Parametric Lights : +2
Parametric Highlights : -10
Parametric Shadow Split : 25
Parametric Midtone Split : 50
Parametric Highlight Split : 75
Sharpen Radius : +1.0
Sharpen Detail : 25
Sharpen Edge Masking : 0
Post Crop Vignette Amount : 0
Grain Amount : 0
Color Noise Reduction Detail : 50
Lens Profile Enable : 0
Lens Manual Distortion Amount : 0
Perspective Vertical : 0
Perspective Horizontal : 0
Perspective Rotate : 0.0
Perspective Scale : 100
Convert To Grayscale : False
Tone Curve Name : Strong Contrast
Camera Profile : Camera Standard
Lens Profile Setup : LensDefaults
Has Settings : True
Crop Top : 0.033633
Crop Left : 0.100135
Crop Bottom : 0.884918
Crop Right : 1
Crop Angle : -1.45144
Crop Constrain To Warp : 0
Crop Width : 4972
Crop Height : 3314
Crop Unit : pixels
Has Crop : True
Already Applied : True
Color Mode : RGB
ICC Profile Name : sRGB IEC61966-2.1
Date Created : 2010:09:04 15:04:37.082
Format : image/jpeg
Tone Curve : 0, 0, 32, 16, 64, 50, 128, 128, 192, 202, 255, 255
Paint Correction What : Correction
Paint Correction Amount : 1.000000
Paint Correction Active : true
Paint Correction Exposure : -0.195000
Paint Correction Saturation : 0.000000
Paint Correction Contrast : 0.000000
Paint Correction Clarity : 0.000000
Paint Correction Sharpness : 0.000000
Paint Correction Brightness : 0.000000
Paint Correction Toning Hue : 0.000000
Paint Correction Toning Saturation : 0.000000
Paint Correction Mask What : Mask/Paint
Paint Correction Mask Value : 1.000000
Paint Correction Mask Radius : 0.066826
Paint Correction Mask Flow : 0.900000
Paint Correction Mask Center Weight : 0.000000
Creator : Ekin Photography
Rights : Ekin Photography
Subject : 5D Mark II, California, Canon, Canon 5D Mark II, Carl Zeiss, Ekin Photography, MF, Manual Focus, Places, San Fran CA, San Francisco, Travel
Creator City : O
Creator Work URL : www.ekinphotography.com
Image Width : 180
Image Height : 300
Bits Per Sample : 8
Color Components : 3
Aperture : 7.1
Image Size : 180x300
Megapixels : 0.054
Scale Factor To 35 mm Equivalent : 1.0
Shutter Speed : 1/640
Create Date : 2010:09:04 15:04:37.82
Date/Time Original : 2010:09:04 15:04:37.82
Circle Of Confusion : 0.031 mm
Field Of View : 82.6 deg
Focal Length : 21.0 mm (35 mm equivalent: 20.5 mm)
Hyperfocal Distance : 2.02 m
Light Value : 13.0
Lens ID : Carl Zeiss Distagon T* 21mm f/2.8 ZE