Uber Exif Photo
By-line : Ekin Photography
Keywords : 5D Mark II, California, Canon, Canon 5D Mark II, Carl Zeiss, Ekin Photography, MF, Manual Focus, Places, San Fran CA, San Francisco, Travel
Copyright Notice : Ekin Photography
URL : www.ekinphotography.com
Photometric Interpretation : RGB
Make : Canon
Camera Model Name : Canon EOS 5D Mark II
Orientation : Horizontal (normal)
Samples Per Pixel : 3
Software : Adobe Photoshop CS5 Windows
Modify Date : 2010:09:13 00:26:41
Artist : Ekin Photography
Copyright : Ekin Photography
Exposure Time : 1/250
F Number : 2.0
Exposure Program : Aperture-priority AE
ISO : 100
Date/Time Original : 2010:09:02 20:32:45
Create Date : 2010:09:02 20:32:45
Shutter Speed Value : 1/250
Aperture Value : 2.0
Exposure Compensation : 0
Max Aperture Value : 2.0
Metering Mode : Multi-segment
Flash : Off, Did not fire
Focal Length : 50.0 mm
Color Space : sRGB
Exif Image Width : 1024
Exif Image Height : 782
Custom Rendered : Normal
Exposure Mode : Auto
White Balance : Manual
Scene Capture Type : Standard
Profile Description : sRGB IEC61966-2.1
Label : Blue
Creator Tool : Adobe Photoshop Lightroom
Serial Number : 320212923
Lens Info : 50mm f/?
Lens : 50-50mm
Image Number : 0
Flash Compensation : 0
Owner Name : Ekin
Firmware : 2.0.4
Web Statement : www.ekinphotography.com
Version : 6.1
Process Version : 5.7
Color Temperature : 5571
Tint : -4
Exposure : 0.00
Shadows : 6
Brightness : +50
Contrast : +25
Saturation : -10
Sharpness : 38
Luminance Smoothing : 0
Color Noise Reduction : 25
Chromatic Aberration R : 0
Chromatic Aberration B : 0
Vignette Amount : -36
Vignette Midpoint : 17
Shadow Tint : 0
Red Hue : 0
Red Saturation : 0
Green Hue : 0
Green Saturation : 0
Blue Hue : 0
Blue Saturation : 0
Fill Light : 17
Vibrance : +29
Highlight Recovery : 0
Clarity : -20
Defringe : 0
Hue Adjustment Red : 0
Hue Adjustment Orange : 0
Hue Adjustment Yellow : 0
Hue Adjustment Green : 0
Hue Adjustment Aqua : 0
Hue Adjustment Blue : 0
Hue Adjustment Purple : 0
Hue Adjustment Magenta : 0
Saturation Adjustment Red : 0
Saturation Adjustment Orange : 0
Saturation Adjustment Yellow : 0
Saturation Adjustment Green : 0
Saturation Adjustment Aqua : 0
Saturation Adjustment Blue : 0
Saturation Adjustment Purple : 0
Saturation Adjustment Magenta : 0
Luminance Adjustment Red : 0
Luminance Adjustment Orange : 0
Luminance Adjustment Yellow : 0
Luminance Adjustment Green : 0
Luminance Adjustment Aqua : 0
Luminance Adjustment Blue : 0
Luminance Adjustment Purple : 0
Luminance Adjustment Magenta : 0
Split Toning Shadow Hue : 0
Split Toning Shadow Saturation : 0
Split Toning Highlight Hue : 0
Split Toning Highlight Saturation : 0
Split Toning Balance : 0
Parametric Shadows : +26
Parametric Darks : -14
Parametric Lights : +17
Parametric Highlights : 0
Parametric Shadow Split : 25
Parametric Midtone Split : 50
Parametric Highlight Split : 75
Sharpen Radius : +1.0
Sharpen Detail : 25
Sharpen Edge Masking : 0
Post Crop Vignette Amount : 0
Grain Amount : 0
Color Noise Reduction Detail : 50
Lens Profile Enable : 0
Lens Manual Distortion Amount : 0
Perspective Vertical : 0
Perspective Horizontal : 0
Perspective Rotate : 0.0
Perspective Scale : 100
Convert To Grayscale : False
Tone Curve Name : Strong Contrast
Camera Profile : Camera Standard
Lens Profile Setup : LensDefaults
Has Settings : True
Has Crop : False
Already Applied : True
Color Mode : RGB
ICC Profile Name : sRGB IEC61966-2.1
Date Created : 2010:09:02 20:32:45.059
Format : image/jpeg
Tone Curve : 0, 0, 32, 16, 64, 50, 128, 128, 192, 202, 255, 255
Creator : Ekin Photography
Rights : Ekin Photography
Subject : 5D Mark II, California, Canon, Canon 5D Mark II, Carl Zeiss, Ekin Photography, MF, Manual Focus, Places, San Fran CA, San Francisco, Travel
Creator City : O
Creator Work URL : www.ekinphotography.com
Image Width : 300
Image Height : 229
Bits Per Sample : 8
Color Components : 3
Aperture : 2.0
Image Size : 300x229
Megapixels : 0.069
Scale Factor To 35 mm Equivalent : 1.0
Shutter Speed : 1/250
Create Date : 2010:09:02 20:32:45.59
Date/Time Original : 2010:09:02 20:32:45.59
Circle Of Confusion : 0.031 mm
Field Of View : 40.5 deg
Focal Length : 50.0 mm (35 mm equivalent: 48.8 mm)
Hyperfocal Distance : 40.60 m
Light Value : 10.0
Lens ID : Canon EF 35-80mm f/4-5.6