Uber Exif Photo
Object Name : Good Morning Vestrahorn
Keywords : 2014, Iceland, Landscape, Sky, ash, black dunes, black sand, clouds, d800, dunes, east iceland, light, morning, nature, stokksnes, sunrise, vestrahorn, waves
By-line : Ajit Menon
Copyright Notice : Ajit Menon ajvi99@gmail.com
Make : NIKON CORPORATION
Camera Model Name : NIKON D800
Software : Adobe Photoshop Lightroom 6.1.1 (Windows)
Modify Date : 2015:11:08 11:01:06
Artist : Ajit Menon
Copyright : Ajit Menon ajvi99@gmail.com
Exposure Time : 1/6
F Number : 11.0
Exposure Program : Manual
ISO : 100
Date/Time Original : 2014:09:24 03:06:44
Create Date : 2014:09:24 03:06:44
Shutter Speed Value : 1/6
Aperture Value : 11.0
Exposure Compensation : 0
Max Aperture Value : 2.8
Metering Mode : Multi-segment
Light Source : Fine Weather
Flash : Off, Did not fire
Focal Length : 21.0 mm
Sensing Method : One-chip color area
Scene Type : Directly photographed
Exposure Mode : Manual
White Balance : Manual
Contrast : Normal
Saturation : Normal
Sharpness : Normal
Subject Distance Range : Unknown
Serial Number : 3028376
Lens Info : 21mm f/2.799999915
Lens Model : 21.0 mm f/2.8
Profile Description : sRGB IEC61966-2.1
Urgency : 3
Date Created : 2014:09:24 03:06:44-04:00
Format : image/jpeg
Rating : 1
Label : Blue
Creator Tool : Adobe Photoshop Lightroom 6.1.1 (Windows)
Lens : 21.0 mm f/2.8
Flash Compensation : 0
Photographic Sensitivity : 100
Version : 9.1.1
Process Version : 6.7
Auto White Version : 134348800
Incremental Temperature : 0
Incremental Tint : 0
Luminance Smoothing : 0
Color Noise Reduction : 0
Vignette Amount : 0
Shadow Tint : 0
Red Hue : 0
Red Saturation : 0
Green Hue : 0
Green Saturation : 0
Blue Hue : 0
Blue Saturation : 0
Vibrance : 0
Hue Adjustment Red : 0
Hue Adjustment Orange : 0
Hue Adjustment Yellow : 0
Hue Adjustment Green : 0
Hue Adjustment Aqua : 0
Hue Adjustment Blue : 0
Hue Adjustment Purple : 0
Hue Adjustment Magenta : 0
Saturation Adjustment Red : 0
Saturation Adjustment Orange : 0
Saturation Adjustment Yellow : 0
Saturation Adjustment Green : 0
Saturation Adjustment Aqua : 0
Saturation Adjustment Blue : 0
Saturation Adjustment Purple : 0
Saturation Adjustment Magenta : 0
Luminance Adjustment Red : 0
Luminance Adjustment Orange : 0
Luminance Adjustment Yellow : 0
Luminance Adjustment Green : 0
Luminance Adjustment Aqua : 0
Luminance Adjustment Blue : 0
Luminance Adjustment Purple : 0
Luminance Adjustment Magenta : 0
Split Toning Shadow Hue : 0
Split Toning Shadow Saturation : 0
Split Toning Highlight Hue : 0
Split Toning Highlight Saturation : 0
Split Toning Balance : 0
Parametric Shadows : 0
Parametric Darks : 0
Parametric Lights : +14
Parametric Highlights : 0
Parametric Shadow Split : 25
Parametric Midtone Split : 50
Parametric Highlight Split : 75
Sharpen Radius : +1.0
Sharpen Detail : 25
Sharpen Edge Masking : 0
Post Crop Vignette Amount : 0
Grain Amount : 0
Lens Profile Enable : 0
Lens Manual Distortion Amount : 0
Perspective Vertical : 0
Perspective Horizontal : 0
Perspective Rotate : 0.0
Perspective Scale : 100
Perspective Aspect : 0
Perspective Upright : Off
Auto Lateral CA : 0
Exposure 2012 : 0.00
Contrast 2012 : 0
Highlights 2012 : 0
Shadows 2012 : 0
Whites 2012 : 0
Blacks 2012 : 0
Clarity 2012 : 0
Defringe Purple Amount : 0
Defringe Purple Hue Lo : 30
Defringe Purple Hue Hi : 70
Defringe Green Amount : 0
Defringe Green Hue Lo : 40
Defringe Green Hue Hi : 60
Dehaze : 0
Tone Map Strength : 0
Convert To Grayscale : False
Tone Curve Name : Linear
Tone Curve Name 2012 : Linear
Camera Profile : Embedded
Lens Profile Setup : LensDefaults
Has Settings : True
Crop Top : 0.147896
Crop Left : 0
Crop Bottom : 1
Crop Right : 1
Crop Angle : 0
Crop Constrain To Warp : 0
Has Crop : True
Already Applied : True
Creator : Ajit Menon
Title : Good Morning Vestrahorn
Rights : Ajit Menon ajvi99@gmail.com
Subject : 2014, Iceland, Landscape, Sky, ash, black dunes, black sand, clouds, d800, dunes, east iceland, light, morning, nature, stokksnes, sunrise, vestrahorn, waves
Tone Curve : 0, 0, 255, 255
Tone Curve Red : 0, 0, 255, 255
Tone Curve Green : 0, 0, 255, 255
Tone Curve Blue : 0, 0, 255, 255
Tone Curve PV2012 : 0, 0, 255, 255
Tone Curve PV2012 Red : 0, 0, 255, 255
Tone Curve PV2012 Green : 0, 0, 255, 255
Tone Curve PV2012 Blue : 0, 0, 255, 255
Image Width : 300
Image Height : 106
Bits Per Sample : 8
Color Components : 3
Aperture : 11.0
Image Size : 300x106
Megapixels : 0.032
Shutter Speed : 1/6
Light Value : 9.5
Lens ID : 21.0mm f/2.8