Uber Exif Photo
Make : SONY
Camera Model Name : NEX-7
Software : Adobe Photoshop Lightroom 4.4 (Windows)
Modify Date : 2013:09:28 06:08:59
Exposure Time : 1/200
Exposure Program : Manual
ISO : 200
Sensitivity Type : Recommended Exposure Index
Recommended Exposure Index : 200
Date/Time Original : 2013:03:23 10:12:08
Create Date : 2013:03:23 10:12:08
Shutter Speed Value : 1/200
Brightness Value : 0.446875
Exposure Compensation : 0
Max Aperture Value : 1.0
Metering Mode : Spot
Light Source : Unknown
Flash : Off, Did not fire
Scene Type : Directly photographed
Custom Rendered : Normal
Exposure Mode : Manual
White Balance : Auto
Scene Capture Type : Standard
Contrast : Normal
Saturation : Normal
Sharpness : Normal
Lens Model : ----
Creator Tool : Adobe Photoshop Lightroom 4.4 (Windows)
Lens : ----
Date Created : 2013:03:23 10:12:08
Version : 7.4
Process Version : 6.7
Color Temperature : 4750
Tint : +6
Luminance Smoothing : 0
Color Noise Reduction : 25
Vignette Amount : -100
Vignette Midpoint : 19
Shadow Tint : 0
Red Hue : 0
Red Saturation : 0
Green Hue : 0
Green Saturation : 0
Blue Hue : 0
Blue Saturation : 0
Vibrance : +24
Hue Adjustment Red : 0
Hue Adjustment Orange : 0
Hue Adjustment Yellow : 0
Hue Adjustment Green : 0
Hue Adjustment Aqua : 0
Hue Adjustment Blue : 0
Hue Adjustment Purple : 0
Hue Adjustment Magenta : 0
Saturation Adjustment Red : 0
Saturation Adjustment Orange : 0
Saturation Adjustment Yellow : +2
Saturation Adjustment Green : +58
Saturation Adjustment Aqua : +3
Saturation Adjustment Blue : 0
Saturation Adjustment Purple : 0
Saturation Adjustment Magenta : 0
Luminance Adjustment Red : 0
Luminance Adjustment Orange : 0
Luminance Adjustment Yellow : -1
Luminance Adjustment Green : -31
Luminance Adjustment Aqua : 0
Luminance Adjustment Blue : 0
Luminance Adjustment Purple : 0
Luminance Adjustment Magenta : 0
Split Toning Shadow Hue : 0
Split Toning Shadow Saturation : 0
Split Toning Highlight Hue : 0
Split Toning Highlight Saturation : 0
Split Toning Balance : 0
Parametric Shadows : 0
Parametric Darks : 0
Parametric Lights : 0
Parametric Highlights : 0
Parametric Shadow Split : 25
Parametric Midtone Split : 50
Parametric Highlight Split : 75
Sharpen Radius : +1.0
Sharpen Detail : 25
Sharpen Edge Masking : 76
Post Crop Vignette Amount : 0
Grain Amount : 0
Color Noise Reduction Detail : 50
Lens Profile Enable : 0
Lens Manual Distortion Amount : 0
Perspective Vertical : 0
Perspective Horizontal : 0
Perspective Rotate : 0.0
Perspective Scale : 100
Auto Lateral CA : 1
Exposure 2012 : +1.24
Contrast 2012 : +20
Highlights 2012 : +92
Shadows 2012 : -68
Whites 2012 : +4
Blacks 2012 : -19
Clarity 2012 : -47
Defringe Purple Amount : 3
Defringe Purple Hue Lo : 20
Defringe Purple Hue Hi : 60
Defringe Green Amount : 0
Defringe Green Hue Lo : 40
Defringe Green Hue Hi : 60
Convert To Grayscale : False
Tone Curve Name 2012 : Linear
Camera Profile : Adobe Standard
Lens Profile Setup : LensDefaults
Has Settings : True
Crop Top : 0.009709
Crop Left : 0.372303
Crop Bottom : 0.963068
Crop Right : 0.810043
Crop Angle : -0.866359
Crop Constrain To Warp : 0
Crop Width : 2568
Crop Height : 3852
Crop Unit : pixels
Has Crop : True
Already Applied : True
Format : image/jpeg
Tone Curve PV2012 : 0, 0, 255, 255
Tone Curve PV2012 Red : 0, 0, 255, 255
Tone Curve PV2012 Green : 0, 0, 255, 255
Tone Curve PV2012 Blue : 0, 0, 255, 255
Gradient Based Corr What : Correction
Gradient Based Corr Amount : 1.000000
Gradient Based Corr Active : true
Gradient Based Corr Saturation : 0.000000
Gradient Based Corr Sharpness : 0.000000
Gradient Based Corr Brightness : 0.000000
Gradient Based Corr Toning Hue : 0.000000
Gradient Based Corr Toning Saturation : 0.000000
Gradient Based Corr Exposure 2012 : -0.473250
Gradient Based Corr Contrast 2012 : 0.000000
Gradient Based Corr Highlights 2012 : -1.000000
Gradient Based Corr Shadows 2012 : -0.598210
Gradient Based Corr Clarity 2012 : 0.000000
Gradient Based Corr Luminance Noise : 0.000000
Gradient Based Corr Moire : 0.000000
Gradient Based Corr Defringe : 0.000000
Gradient Based Corr Temperature : 0.000000
Gradient Based Corr Tint : 0.000000
Gradient Based Corr Mask What : Mask/Gradient
Gradient Based Corr Mask Value : 1.000000
Gradient Based Corr Mask Zero X : 0.569167
Gradient Based Corr Mask Zero Y : 0.796404
Gradient Based Corr Mask Full X : 0.569095
Gradient Based Corr Mask Full Y : 0.969688
Image Width : 300
Image Height : 200
Bits Per Sample : 8
Color Components : 1
Image Size : 300x200
Megapixels : 0.060
Scale Factor To 35 mm Equivalent : 30.6
Shutter Speed : 1/200
Circle Of Confusion : 0.001 mm