Uber Exif Photo
Caption-Abstract : Benguela, Angola - Nikon D700 +Nikon D700 + Carl Zeiss 50 mm f/1.4 ZF + f/5.6 + 1/8s + ISO-2500
By-line : Filipe Jorge da Silva Brandão
Object Name : Couch zapping
Keywords : 01_Adjectivos, 03_Autoria, 04_Cidades, 06_Lentes, 07_Máquinas, 09_Países, 10_Pessoas, 12_Tipo de Fotografia, Angola, Benguela, Carl Zeiss, Carl Zeiss 50mm f/1.4 ZF, Lu, Nikon D700, Planar 50/1.4 ZF, Planar T* 1.4/50, Portrait, Retrato, ZF, filipe brandão, girl, interior, mulher, rapariga, woman
Copyright Notice : @2010 FILIPE BRANDÃO
Copyright Flag : True
Photometric Interpretation : RGB
Image Description : Benguela, Angola - Nikon D700 +Nikon D700 + Carl Zeiss 50 mm f/1.4 ZF + f/5.6 + 1/8s + ISO-2500
Make : NIKON CORPORATION
Camera Model Name : NIKON D700
Orientation : Horizontal (normal)
Samples Per Pixel : 3
Software : Adobe Photoshop CS6 (Windows)
Modify Date : 2013:12:12 17:00:24
Artist : Filipe Jorge da Silva Brandão
Copyright : @2010 FILIPE BRANDÃO
Exposure Time : 1/8
F Number : 5.6
Exposure Program : Aperture-priority AE
ISO : 2500
Date/Time Original : 2010:01:16 16:54:19
Create Date : 2010:01:16 16:54:19
Shutter Speed Value : 1/8
Aperture Value : 5.6
Exposure Compensation : 0
Max Aperture Value : 1.0
Metering Mode : Multi-segment
Light Source : Tungsten (Incandescent)
Flash : No Flash
Focal Length : 50.0 mm
Color Space : Uncalibrated
Exif Image Width : 3425
Exif Image Height : 2280
Sensing Method : One-chip color area
Scene Type : Directly photographed
CFA Pattern : [Red,Green][Green,Blue]
Custom Rendered : Normal
Exposure Mode : Auto
White Balance : Manual
Digital Zoom Ratio : 1
Focal Length In 35mm Format : 50 mm
Scene Capture Type : Standard
Gain Control : High gain up
Contrast : Normal
Saturation : Normal
Sharpness : Normal
Subject Distance Range : Unknown
Serial Number : 2261265
Lens Info : 0mm f/0
Lens Model : 0.0 mm f/0.0
Format : image/jpeg
Creator Tool : Adobe Photoshop Lightroom 4.1 (Windows)
Rating : 5
Lens : 0.0 mm f/0.0
Image Number : 375
Date Created : 2010:01:16 16:54:19.033
Color Mode : Grayscale
ICC Profile Name : Dot Gain 20%
Marked : True
Version : 7.1
Process Version : 6.7
Incremental Temperature : 0
Incremental Tint : 0
Luminance Smoothing : 0
Color Noise Reduction : 2
Vignette Amount : 0
Shadow Tint : 0
Red Hue : 0
Red Saturation : 0
Green Hue : 0
Green Saturation : 0
Blue Hue : 0
Blue Saturation : 0
Gray Mixer Red : +3
Gray Mixer Orange : -7
Gray Mixer Yellow : -11
Gray Mixer Green : -20
Gray Mixer Aqua : -22
Gray Mixer Blue : +1
Gray Mixer Purple : +12
Gray Mixer Magenta : +9
Split Toning Shadow Hue : 0
Split Toning Shadow Saturation : 0
Split Toning Highlight Hue : 0
Split Toning Highlight Saturation : 0
Split Toning Balance : 0
Parametric Shadows : 0
Parametric Darks : 0
Parametric Lights : 0
Parametric Highlights : 0
Parametric Shadow Split : 25
Parametric Midtone Split : 50
Parametric Highlight Split : 75
Sharpen Radius : +0.5
Sharpen Detail : 25
Sharpen Edge Masking : 6
Post Crop Vignette Amount : 0
Grain Amount : 0
Color Noise Reduction Detail : 50
Lens Profile Enable : 0
Lens Manual Distortion Amount : 0
Perspective Vertical : 0
Perspective Horizontal : 0
Perspective Rotate : 0.0
Perspective Scale : 100
Auto Lateral CA : 0
Exposure 2012 : +0.24
Contrast 2012 : +2
Highlights 2012 : +7
Shadows 2012 : +29
Whites 2012 : +10
Blacks 2012 : -5
Clarity 2012 : +10
Convert To Grayscale : True
Tone Curve Name 2012 : Medium Contrast
Camera Profile : Embedded
Lens Profile Setup : LensDefaults
Has Settings : True
Has Crop : False
Already Applied : True
Creator : Filipe Jorge da Silva Brandão
Title : Couch zapping
Rights : @2010 FILIPE BRANDÃO
Subject : 01_Adjectivos, 03_Autoria, 04_Cidades, 06_Lentes, 07_Máquinas, 09_Países, 10_Pessoas, 12_Tipo de Fotografia, Angola, Benguela, Carl Zeiss, Carl Zeiss 50mm f/1.4 ZF, Lu, Nikon D700, Planar 50/1.4 ZF, Planar T* 1.4/50, Portrait, Retrato, ZF, filipe brandão, girl, interior, mulher, rapariga, woman
Description : Benguela, Angola - Nikon D700 +Nikon D700 + Carl Zeiss 50 mm f/1.4 ZF + f/5.6 + 1/8s + ISO-2500
Tone Curve PV2012 : 0, 0, 32, 22, 64, 56, 128, 128, 192, 196, 255, 255
Tone Curve PV2012 Red : 0, 0, 255, 255
Tone Curve PV2012 Green : 0, 0, 255, 255
Tone Curve PV2012 Blue : 0, 0, 255, 255
Creator Country : Portugal
Creator City : Porto
Creator Work Email : filipejsbrandao@yahoo.co.uk
Creator Work URL : www.flickr.com/photos/mustha
Image Width : 300
Image Height : 200
Bits Per Sample : 8
Color Components : 1
Aperture : 5.6
Image Size : 300x200
Megapixels : 0.060
Scale Factor To 35 mm Equivalent : 1.0
Shutter Speed : 1/8
Create Date : 2010:01:16 16:54:19.33
Date/Time Original : 2010:01:16 16:54:19.33
Circle Of Confusion : 0.030 mm
Field Of View : 39.6 deg
Focal Length : 50.0 mm (35 mm equivalent: 50.0 mm)
Hyperfocal Distance : 14.86 m
Light Value : 3.3
Lens ID : 0.0mm f/0.0