Uber Exif Photo
Keywords : istanbul
Make : SONY
Camera Model Name : DSC-RX100
Software : Adobe Photoshop Lightroom 4.2 (Windows)
Modify Date : 2013:12:09 19:36:02
Exposure Time : 1/160
F Number : 5.6
Exposure Program : Landscape
ISO : 125
Sensitivity Type : Recommended Exposure Index
Recommended Exposure Index : 125
Date/Time Original : 2013:10:28 16:17:04
Create Date : 2013:10:28 16:17:04
Shutter Speed Value : 1/160
Aperture Value : 5.6
Brightness Value : 8.1421875
Exposure Compensation : 0
Max Aperture Value : 1.8
Metering Mode : Multi-segment
Light Source : Unknown
Flash : Auto, Did not fire
Focal Length : 10.4 mm
Scene Type : Directly photographed
Custom Rendered : Normal
Exposure Mode : Auto
White Balance : Auto
Digital Zoom Ratio : 1
Focal Length In 35mm Format : 28 mm
Scene Capture Type : Landscape
Contrast : Normal
Saturation : Normal
Sharpness : Normal
Lens Info : 10.4-37.1mm f/1.8-4.9
Lens Model : 28-100mm F1.8-4.9
Profile Description : sRGB IEC61966-2.1
Creator Tool : Adobe Photoshop Lightroom 4.2 (Windows)
Rating : 5
Lens : 28-100mm F1.8-4.9
Date Created : 2013:10:28 16:17:04
Format : image/jpeg
Version : 7.2
Process Version : 6.7
Color Temperature : 6395
Tint : +9
Luminance Smoothing : 12
Color Noise Reduction : 99
Vignette Amount : 0
Shadow Tint : 0
Red Hue : +5
Red Saturation : -5
Green Hue : +30
Green Saturation : -10
Blue Hue : +5
Blue Saturation : +20
Vibrance : +10
Hue Adjustment Red : +12
Hue Adjustment Orange : +4
Hue Adjustment Yellow : -5
Hue Adjustment Green : +5
Hue Adjustment Aqua : 0
Hue Adjustment Blue : +5
Hue Adjustment Purple : 0
Hue Adjustment Magenta : 0
Saturation Adjustment Red : -30
Saturation Adjustment Orange : +5
Saturation Adjustment Yellow : 0
Saturation Adjustment Green : -50
Saturation Adjustment Aqua : -25
Saturation Adjustment Blue : +10
Saturation Adjustment Purple : -30
Saturation Adjustment Magenta : -30
Luminance Adjustment Red : -30
Luminance Adjustment Orange : -10
Luminance Adjustment Yellow : -15
Luminance Adjustment Green : -10
Luminance Adjustment Aqua : 0
Luminance Adjustment Blue : -25
Luminance Adjustment Purple : 0
Luminance Adjustment Magenta : -15
Split Toning Shadow Hue : 0
Split Toning Shadow Saturation : 0
Split Toning Highlight Hue : 0
Split Toning Highlight Saturation : 0
Split Toning Balance : 0
Parametric Shadows : 0
Parametric Darks : 0
Parametric Lights : 0
Parametric Highlights : 0
Parametric Shadow Split : 14
Parametric Midtone Split : 60
Parametric Highlight Split : 75
Sharpen Radius : +1.2
Sharpen Detail : 25
Sharpen Edge Masking : 48
Post Crop Vignette Amount : 0
Grain Amount : 0
Luminance Noise Reduction Detail : 19
Color Noise Reduction Detail : 50
Luminance Noise Reduction Contrast : 11
Lens Profile Enable : 0
Lens Manual Distortion Amount : 0
Perspective Vertical : 0
Perspective Horizontal : 0
Perspective Rotate : 0.0
Perspective Scale : 100
Auto Lateral CA : 0
Exposure 2012 : +1.07
Contrast 2012 : 0
Highlights 2012 : -2
Shadows 2012 : +45
Whites 2012 : -10
Blacks 2012 : -19
Clarity 2012 : +69
Defringe Purple Amount : 0
Defringe Purple Hue Lo : 30
Defringe Purple Hue Hi : 70
Defringe Green Amount : 0
Defringe Green Hue Lo : 40
Defringe Green Hue Hi : 60
Convert To Grayscale : False
Tone Curve Name 2012 : Custom
Camera Profile : Adobe Standard
Lens Profile Setup : LensDefaults
Has Settings : True
Crop Top : 0.039039
Crop Left : 0.026426
Crop Bottom : 0.964558
Crop Right : 0.983167
Crop Angle : -0.871679
Crop Constrain To Warp : 0
Crop Width : 2000
Crop Height : 1333
Crop Unit : pixels
Has Crop : True
Already Applied : True
Subject : istanbul
Tone Curve PV2012 : 0, 0, 255, 255
Tone Curve PV2012 Red : 0, 3, 46, 26, 113, 123, 148, 170, 186, 208, 255, 255
Tone Curve PV2012 Green : 0, 0, 25, 5, 49, 23, 112, 121, 185, 207, 216, 228, 255, 251
Tone Curve PV2012 Blue : 0, 0, 25, 5, 50, 22, 114, 122, 188, 209, 255, 250
Image Width : 300
Image Height : 200
Bits Per Sample : 8
Color Components : 3
Aperture : 5.6
Image Size : 300x200
Megapixels : 0.060
Scale Factor To 35 mm Equivalent : 2.7
Shutter Speed : 1/160
Circle Of Confusion : 0.011 mm
Field Of View : 65.5 deg
Focal Length : 10.4 mm (35 mm equivalent: 28.0 mm)
Hyperfocal Distance : 1.73 m
Light Value : 12.0
Lens ID : 28-100mm F1.8-4.9