Uber Exif Photo
Keywords : m9
Sub-location : La Palma
Copyright Notice : Dierk Topp
Copyright Flag : True
URL : www.lapalmagaleria.info
Make : Leica Camera AG
Camera Model Name : M9 Digital Camera
Software : 1.002; post-processed by CornerFix 1.3.0.4
Modify Date : 2010:10:26 22:05:51
Copyright : Dierk Topp
Exposure Time : 1/1400
F Number : 8.0
Exposure Program : Aperture-priority AE
ISO : 160
Date/Time Original : 2010:01:23 16:04:37
Create Date : 2010:01:23 16:04:37
Shutter Speed Value : 1/1400
Aperture Value : 8.0
Exposure Compensation : 0
Max Aperture Value : 2.8
Metering Mode : Center-weighted average
Light Source : Unknown
Focal Length : 21.0 mm
Contrast : Normal
Sharpening : Normal
Saturation : Normal
JPEG Quality : Fine
White Balance : Auto
WB RGB Levels : 0.4834036527 1 0.7148653955
User Profile : Z21
Serial Number : *******
Firmware Version : 1.002
Base ISO : 160
Sensor Width : 5270
Sensor Height : 3516
Sensor Bit Depth : 14
Camera Temperature : 26 C
Lens Type : Elmarit-M 21mm f/2.8
Approximate F Number : 6.0
Measured LV : 6.50
External Sensor Brightness Value : 7.05
Color Space : Uncalibrated
Scene Type : Directly photographed
Exposure Mode : Manual
Digital Zoom Ratio : 0
Focal Length In 35mm Format : 21 mm
Scene Capture Type : Standard
Maker Note Safety : Safe
Location : La Palma
Lens : Elmarit-M 21mm f/2.8
Rights : Dierk Topp
Subject : m9
Date/Time Digitized : 2010:01:23 16:04:37Z
Flash Fired : False
Flash Function : False
Flash Mode : Unknown
Flash Red Eye Mode : False
Flash Return : No return detection
Exif Image Width : 1500
Exif Image Height : 918
Sharpness : Hard
Creator Tool : Adobe Photoshop Lightroom
Rating : 5
Marked : True
Web Statement : www.lapalmagaleria.info
Already Applied : True
Blue Hue : 0
Blue Saturation : 0
Brightness : +54
Camera Profile : Adobe Standard
Chromatic Aberration B : 0
Chromatic Aberration R : 0
Clarity : +26
Color Noise Reduction : 25
Convert To Grayscale : True
Crop Angle : -0.91985
Crop Bottom : 0.911018
Crop Height : 918
Crop Left : 0
Crop Right : 1
Crop Top : 0.023895
Crop Unit : pixels
Crop Width : 1500
Defringe : 0
Exposure : +0.90
Fill Light : 0
Gray Mixer Aqua : -18
Gray Mixer Blue : -23
Gray Mixer Green : -25
Gray Mixer Magenta : +3
Gray Mixer Orange : -17
Gray Mixer Purple : +12
Gray Mixer Red : -9
Gray Mixer Yellow : -21
Green Hue : 0
Green Saturation : 0
Has Crop : True
Has Settings : True
Highlight Recovery : 0
Luminance Smoothing : 0
Parametric Darks : 0
Parametric Highlight Split : 75
Parametric Highlights : +35
Parametric Lights : 0
Parametric Midtone Split : 50
Parametric Shadow Split : 25
Parametric Shadows : +56
Post Crop Vignette Amount : -10
Post Crop Vignette Feather : 50
Post Crop Vignette Midpoint : 50
Post Crop Vignette Roundness : 0
Red Hue : 0
Red Saturation : 0
Shadow Tint : 0
Shadows : 13
Sharpen Detail : 50
Sharpen Edge Masking : 55
Sharpen Radius : +0.8
Split Toning Balance : 0
Split Toning Highlight Hue : 0
Split Toning Highlight Saturation : 0
Split Toning Shadow Hue : 0
Split Toning Shadow Saturation : 0
Color Temperature : 4350
Tint : +3
Tone Curve : 0, 0, 32, 22, 64, 56, 128, 128, 192, 196, 255, 255
Tone Curve Name : Medium Contrast
Version : 6.1
Vignette Amount : 0
Image Width : 300
Image Height : 189
Bits Per Sample : 8
Color Components : 1
Aperture : 8.0
Blue Balance : 0.714865
Image Size : 300x189
Lens ID : Elmarit-M 21mm f/2.8
Megapixels : 0.057
Red Balance : 0.483404
Scale Factor To 35 mm Equivalent : 1.0
Shutter Speed : 1/1400
Flash : No Flash
Circle Of Confusion : 0.030 mm
Field Of View : 81.2 deg
Focal Length : 21.0 mm (35 mm equivalent: 21.0 mm)
Hyperfocal Distance : 1.83 m
Light Value : 15.8