Uber Exif Photo
By-line : Tony Johansson
Copyright Notice : Tony Johansson
Make : NIKON CORPORATION
Camera Model Name : NIKON D800E
Software : Adobe Photoshop Lightroom 6.14 (Windows)
Modify Date : 2019:02:15 22:25:31
Artist : Tony Johansson
Copyright : Tony Johansson
Exposure Time : 1/100
F Number : 8.0
Exposure Program : Aperture-priority AE
ISO : 100
Sensitivity Type : Recommended Exposure Index
Date/Time Original : 2019:02:14 09:33:06
Create Date : 2019:02:14 09:33:06
Shutter Speed Value : 1/100
Aperture Value : 8.0
Exposure Compensation : 0
Max Aperture Value : 2.8
Metering Mode : Multi-segment
Light Source : Unknown
Flash : Off, Did not fire
Focal Length : 15.0 mm
Color Space : sRGB
Sensing Method : One-chip color area
Scene Type : Directly photographed
CFA Pattern : [Red,Green][Green,Blue]
Custom Rendered : Normal
Exposure Mode : Auto
White Balance : Auto
Digital Zoom Ratio : 1
Focal Length In 35mm Format : 15 mm
Scene Capture Type : Standard
Gain Control : None
Contrast : Normal
Saturation : Normal
Sharpness : Normal
Subject Distance Range : Unknown
Serial Number : 6008695
Lens Info : 15mm f/2.8
Lens Model : Zeiss Distagon T* 2.8/15 ZF.2
Profile Description : sRGB IEC61966-2.1
Format : image/jpeg
Creator Tool : Adobe Photoshop Lightroom 6.14 (Windows)
Lens : Zeiss Distagon T* 2.8/15 ZF.2
Image Number : 6949
Distortion Correction Already Applied : True
Lateral Chromatic Aberration Correction Already Applied : True
Vignette Correction Already Applied : True
Date Created : 2019:02:14 09:33:06.60
Version : 10.1
Process Version : 6.7
Auto White Version : 134348800
Color Temperature : 5950
Tint : +13
Luminance Smoothing : 0
Color Noise Reduction : 25
Vignette Amount : 0
Shadow Tint : 0
Red Hue : 0
Red Saturation : 0
Green Hue : 0
Green Saturation : 0
Blue Hue : 0
Blue Saturation : 0
Vibrance : 0
Hue Adjustment Red : 0
Hue Adjustment Orange : 0
Hue Adjustment Yellow : 0
Hue Adjustment Green : 0
Hue Adjustment Aqua : 0
Hue Adjustment Blue : +9
Hue Adjustment Purple : 0
Hue Adjustment Magenta : 0
Saturation Adjustment Red : 0
Saturation Adjustment Orange : 0
Saturation Adjustment Yellow : 0
Saturation Adjustment Green : +59
Saturation Adjustment Aqua : 0
Saturation Adjustment Blue : +93
Saturation Adjustment Purple : 0
Saturation Adjustment Magenta : 0
Luminance Adjustment Red : 0
Luminance Adjustment Orange : 0
Luminance Adjustment Yellow : 0
Luminance Adjustment Green : +81
Luminance Adjustment Aqua : 0
Luminance Adjustment Blue : -43
Luminance Adjustment Purple : 0
Luminance Adjustment Magenta : 0
Split Toning Shadow Hue : 0
Split Toning Shadow Saturation : 0
Split Toning Highlight Hue : 0
Split Toning Highlight Saturation : 0
Split Toning Balance : 0
Parametric Shadows : 0
Parametric Darks : 0
Parametric Lights : 0
Parametric Highlights : 0
Parametric Shadow Split : 25
Parametric Midtone Split : 50
Parametric Highlight Split : 75
Sharpen Radius : +0.5
Sharpen Detail : 25
Sharpen Edge Masking : 46
Post Crop Vignette Amount : 0
Grain Amount : 0
Color Noise Reduction Detail : 50
Color Noise Reduction Smoothness : 50
Lens Profile Enable : 1
Lens Manual Distortion Amount : 0
Perspective Vertical : 0
Perspective Horizontal : 0
Perspective Rotate : 0.0
Perspective Scale : 100
Perspective Aspect : 0
Perspective Upright : Off
Perspective X : 0.00
Perspective Y : 0.00
Auto Lateral CA : 1
Exposure 2012 : 0.00
Contrast 2012 : 0
Highlights 2012 : -100
Shadows 2012 : +95
Whites 2012 : +15
Blacks 2012 : +10
Clarity 2012 : 0
Defringe Purple Amount : 0
Defringe Purple Hue Lo : 30
Defringe Purple Hue Hi : 70
Defringe Green Amount : 0
Defringe Green Hue Lo : 40
Defringe Green Hue Hi : 60
Dehaze : 0
Tone Map Strength : 0
Convert To Grayscale : False
Tone Curve Name : Linear
Tone Curve Name 2012 : Linear
Camera Profile : Adobe Standard
Lens Profile Setup : LensDefaults
Lens Profile Name : Adobe (Zeiss Distagon T* 2,8/15 ZF.2)
Lens Profile Filename : NIKON CORPORATION (Zeiss Distagon T 2.8-15 ZF.2) - RAW.lcp
Lens Profile Distortion Scale : 100
Lens Profile Chromatic Aberration Scale : 100
Lens Profile Vignetting Scale : 100
Has Settings : True
Has Crop : False
Already Applied : True
Creator : Tony Johansson
Rights : Tony Johansson
Tone Curve : 0, 0, 255, 255
Tone Curve Red : 0, 0, 255, 255
Tone Curve Green : 0, 0, 255, 255
Tone Curve Blue : 0, 0, 255, 255
Tone Curve PV2012 : 0, 0, 255, 255
Tone Curve PV2012 Red : 0, 0, 255, 255
Tone Curve PV2012 Green : 0, 0, 255, 255
Tone Curve PV2012 Blue : 0, 0, 255, 255
Image Width : 350
Image Height : 234
Bits Per Sample : 8
Color Components : 3
Aperture : 8.0
Image Size : 350x234
Megapixels : 0.082
Scale Factor To 35 mm Equivalent : 1.0
Shutter Speed : 1/100
Create Date : 2019:02:14 09:33:06.60
Date/Time Original : 2019:02:14 09:33:06.60
Circle Of Confusion : 0.030 mm
Field Of View : 100.4 deg
Focal Length : 15.0 mm (35 mm equivalent: 15.0 mm)
Hyperfocal Distance : 0.94 m
Light Value : 12.6