Uber Exif Photo
Make : SONY
Camera Model Name : ILCE-7RM2
Software : Adobe Photoshop Lightroom 6.10 (Macintosh)
Modify Date : 2017:08:04 15:46:44
Exposure Time : 1/640
F Number : 11.0
Exposure Program : Manual
ISO : 125
Sensitivity Type : Recommended Exposure Index
Recommended Exposure Index : 125
Date/Time Original : 2016:09:29 15:35:43
Create Date : 2016:09:29 15:35:43
Shutter Speed Value : 1/640
Aperture Value : 11.0
Brightness Value : 11.58359375
Exposure Compensation : -0.3
Max Aperture Value : 2.0
Metering Mode : Multi-segment
Light Source : Unknown
Flash : Off, Did not fire
Focal Length : 25.0 mm
Color Space : sRGB
Scene Type : Directly photographed
Custom Rendered : Normal
Exposure Mode : Manual
White Balance : Auto
Digital Zoom Ratio : 1
Focal Length In 35mm Format : 25 mm
Scene Capture Type : Standard
Contrast : Normal
Saturation : Normal
Sharpness : Normal
Lens Info : 25mm f/2
Lens Model : E 25mm F2
Profile Description : sRGB IEC61966-2.1
Creator Tool : Adobe Photoshop Lightroom 6.10 (Macintosh)
Lens : E 25mm F2
Lateral Chromatic Aberration Correction Already Applied : True
Lens Distort Info : 33158/32768 -55613228/1073741824 48751298/1073741824 -12470679/1073741824
Date Created : 2016:09:29 15:35:43
Format : image/jpeg
Version : 9.10
Process Version : 6.7
Auto White Version : 134348800
Color Temperature : 4700
Tint : +6
Luminance Smoothing : 0
Color Noise Reduction : 25
Vignette Amount : 0
Shadow Tint : -2
Red Hue : +18
Red Saturation : +30
Green Hue : +45
Green Saturation : +10
Blue Hue : -5
Blue Saturation : +35
Vibrance : 0
Hue Adjustment Red : 0
Hue Adjustment Orange : +2
Hue Adjustment Yellow : +5
Hue Adjustment Green : +20
Hue Adjustment Aqua : +10
Hue Adjustment Blue : -5
Hue Adjustment Purple : +20
Hue Adjustment Magenta : +20
Saturation Adjustment Red : -30
Saturation Adjustment Orange : -8
Saturation Adjustment Yellow : -15
Saturation Adjustment Green : -45
Saturation Adjustment Aqua : -50
Saturation Adjustment Blue : -30
Saturation Adjustment Purple : -50
Saturation Adjustment Magenta : -40
Luminance Adjustment Red : +5
Luminance Adjustment Orange : -8
Luminance Adjustment Yellow : +10
Luminance Adjustment Green : -5
Luminance Adjustment Aqua : +5
Luminance Adjustment Blue : -38
Luminance Adjustment Purple : +15
Luminance Adjustment Magenta : +20
Split Toning Shadow Hue : 0
Split Toning Shadow Saturation : 0
Split Toning Highlight Hue : 0
Split Toning Highlight Saturation : 0
Split Toning Balance : 0
Parametric Shadows : 0
Parametric Darks : 0
Parametric Lights : 0
Parametric Highlights : 0
Parametric Shadow Split : 14
Parametric Midtone Split : 60
Parametric Highlight Split : 75
Sharpen Radius : +0.7
Sharpen Detail : 48
Sharpen Edge Masking : 19
Post Crop Vignette Amount : -3
Post Crop Vignette Midpoint : 50
Post Crop Vignette Feather : 50
Post Crop Vignette Roundness : 0
Post Crop Vignette Style : Highlight Priority
Post Crop Vignette Highlight Contrast : 0
Grain Amount : 0
Color Noise Reduction Detail : 50
Color Noise Reduction Smoothness : 50
Lens Profile Enable : 0
Lens Manual Distortion Amount : 0
Perspective Vertical : 0
Perspective Horizontal : 0
Perspective Rotate : -0.4
Perspective Scale : 100
Perspective Aspect : 0
Perspective Upright : Off
Perspective X : 0.00
Perspective Y : 0.00
Auto Lateral CA : 0
Exposure 2012 : +0.35
Contrast 2012 : 0
Highlights 2012 : +30
Shadows 2012 : +75
Whites 2012 : 0
Blacks 2012 : -40
Clarity 2012 : +9
Defringe Purple Amount : 0
Defringe Purple Hue Lo : 30
Defringe Purple Hue Hi : 70
Defringe Green Amount : 0
Defringe Green Hue Lo : 40
Defringe Green Hue Hi : 60
Dehaze : 0
Tone Map Strength : 0
Convert To Grayscale : False
Tone Curve Name : Linear
Tone Curve Name 2012 : Gold 100 Vibrant
Camera Profile : Camera Standard
Lens Profile Setup : LensDefaults
Has Settings : True
Crop Top : 0.007736
Crop Left : 0.005566
Crop Bottom : 0.841703
Crop Right : 0.994469
Crop Angle : 0
Crop Constrain To Warp : 1
Has Crop : True
Already Applied : True
Tone Curve : 0, 0, 255, 255
Tone Curve Red : 0, 0, 255, 255
Tone Curve Green : 0, 0, 255, 255
Tone Curve Blue : 0, 0, 255, 255
Tone Curve PV2012 : 0, 0, 28, 24, 77, 74, 186, 187, 255, 250
Tone Curve PV2012 Red : 0, 0, 30, 9, 70, 51, 119, 122, 180, 196, 255, 255
Tone Curve PV2012 Green : 0, 0, 28, 9, 120, 124, 181, 198, 255, 255
Tone Curve PV2012 Blue : 0, 0, 24, 11, 83, 70, 119, 122, 183, 200, 255, 255
Paint Correction What : Correction
Paint Correction Amount : 1.000000
Paint Correction Active : true
Paint Correction Saturation : 0.000000
Paint Correction Sharpness : 0.000000
Paint Correction Brightness : 0.000000
Paint Correction Toning Hue : 0.000000
Paint Correction Toning Saturation : 0.000000
Paint Correction Exposure 2012 : 0.000000
Paint Correction Contrast 2012 : 0.000000
Paint Correction Highlights 2012 : 0.000000
Paint Correction Shadows 2012 : 0.000000
Paint Correction Whites 2012 : 0.000000
Paint Correction Blacks 2012 : 0.000000
Paint Correction Clarity 2012 : 0.000000
Paint Correction Dehaze : 0.000000
Paint Correction Luminance Noise : 0.000000
Paint Correction Moire : 0.000000
Paint Correction Defringe : 0.000000
Paint Correction Temperature : 0.000000
Paint Correction Tint : 0.000000
Paint Correction Mask What : Mask/Paint
Paint Correction Mask Value : 0.843557
Paint Correction Mask Radius : 0.038858
Paint Correction Mask Flow : 1.000000
Paint Correction Mask Center Weight : 0.000000
Circ Grad Based Corr What : Correction
Circ Grad Based Corr Amount : 1.000000
Circ Grad Based Corr Active : true
Circ Grad Based Corr Saturation : -0.121194
Circ Grad Based Corr Sharpness : 0.101312
Circ Grad Based Corr Brightness : 0.000000
Circ Grad Based Corr Toning Hue : 240.000000
Circ Grad Based Corr Toning Saturation : 0.000000
Circ Grad Based Corr Exposure 2012 : 0.069511
Circ Grad Based Corr Contrast 2012 : 0.081380
Circ Grad Based Corr Highlights 2012 : 0.000000
Circ Grad Based Corr Shadows 2012 : 0.000000
Circ Grad Based Corr Whites 2012 : 0.000000
Circ Grad Based Corr Blacks 2012 : 0.000000
Circ Grad Based Corr Clarity 2012 : 0.000000
Circ Grad Based Corr Dehaze : 0.000000
Circ Grad Based Corr Luminance Noise : 0.000000
Circ Grad Based Corr Moire : 0.000000
Circ Grad Based Corr Defringe : 0.000000
Circ Grad Based Corr Temperature : 0.000000
Circ Grad Based Corr Tint : 0.000000
Circ Grad Based Corr Mask What : Mask/CircularGradient
Circ Grad Based Corr Mask Value : 1.000000
Circ Grad Based Corr Mask Top : 0.309228
Circ Grad Based Corr Mask Left : 0.322741
Circ Grad Based Corr Mask Bottom : 0.348586
Circ Grad Based Corr Mask Right : 0.340231
Circ Grad Based Corr Mask Angle : 0.000000
Circ Grad Based Corr Mask Midpoint : +50
Circ Grad Based Corr Mask Roundness : 0
Circ Grad Based Corr Mask Feather : +50
Circ Grad Based Corr Mask Flipped : true
Circ Grad Based Corr Mask Version : +2
Image Width : 300
Image Height : 169
Bits Per Sample : 8
Color Components : 3
Aperture : 11.0
Image Size : 300x169
Megapixels : 0.051
Scale Factor To 35 mm Equivalent : 1.0
Shutter Speed : 1/640
Circle Of Confusion : 0.030 mm
Field Of View : 71.5 deg
Focal Length : 25.0 mm (35 mm equivalent: 25.0 mm)
Hyperfocal Distance : 1.89 m
Light Value : 15.9
Lens ID : E 25mm F2