Uber Exif Photo
Photometric Interpretation : RGB
Make : SONY
Camera Model Name : ILCE-7
Orientation : Horizontal (normal)
Samples Per Pixel : 3
Software : Adobe Photoshop CC 2015 (Windows)
Modify Date : 2015:12:11 17:52:32
Exposure Time : 1/5
F Number : 7.1
Exposure Program : Aperture-priority AE
ISO : 800
Sensitivity Type : Recommended Exposure Index
Recommended Exposure Index : 800
Date/Time Original : 2015:04:25 20:09:37
Create Date : 2015:04:25 20:09:37
Shutter Speed Value : 1/5
Aperture Value : 7.1
Brightness Value : 0.11875
Exposure Compensation : 0
Max Aperture Value : 4.0
Metering Mode : Multi-segment
Light Source : Unknown
Flash : Off, Did not fire
Focal Length : 35.0 mm
Color Space : sRGB
Exif Image Width : 1200
Exif Image Height : 894
Scene Type : Directly photographed
Custom Rendered : Normal
Exposure Mode : Auto
White Balance : Manual
Digital Zoom Ratio : 1
Focal Length In 35mm Format : 35 mm
Scene Capture Type : Standard
Contrast : Normal
Saturation : Normal
Sharpness : Hard
Lens Info : 16-35mm f/4
Lens Model : FE 16-35mm F4 ZA OSS
Profile Description : sRGB IEC61966-2.1
Rating : 3
Label : Creator Tool : Adobe Photoshop CC 2014 (Windows)
Lens : FE 16-35mm F4 ZA OSS
Lens Distort Info : 1048580815/1073741824 11550034/1073741824 15354658/1073741824 -1766233/1073741824
Lateral Chromatic Aberration Correction Already Applied : True
Date Created : 2015:04:25 20:09:37
Color Mode : RGB
ICC Profile Name : sRGB IEC61966-2.1
Format : image/jpeg
Raw File Name : DSC00547.ARW
Version : 9.0
Process Version : 6.7
Auto White Version : 134348800
Color Temperature : 7242
Tint : +6
Luminance Smoothing : 0
Color Noise Reduction : 25
Vignette Amount : 0
Shadow Tint : 0
Red Hue : 0
Red Saturation : 0
Green Hue : 0
Green Saturation : 0
Blue Hue : 0
Blue Saturation : 0
Vibrance : +6
Hue Adjustment Red : 0
Hue Adjustment Orange : 0
Hue Adjustment Yellow : 0
Hue Adjustment Green : 0
Hue Adjustment Aqua : 0
Hue Adjustment Blue : 0
Hue Adjustment Purple : 0
Hue Adjustment Magenta : 0
Saturation Adjustment Red : 0
Saturation Adjustment Orange : 0
Saturation Adjustment Yellow : 0
Saturation Adjustment Green : 0
Saturation Adjustment Aqua : 0
Saturation Adjustment Blue : 0
Saturation Adjustment Purple : 0
Saturation Adjustment Magenta : 0
Luminance Adjustment Red : 0
Luminance Adjustment Orange : 0
Luminance Adjustment Yellow : 0
Luminance Adjustment Green : 0
Luminance Adjustment Aqua : 0
Luminance Adjustment Blue : 0
Luminance Adjustment Purple : 0
Luminance Adjustment Magenta : 0
Split Toning Shadow Hue : 0
Split Toning Shadow Saturation : 0
Split Toning Highlight Hue : 0
Split Toning Highlight Saturation : 0
Split Toning Balance : 0
Parametric Shadows : 0
Parametric Darks : 0
Parametric Lights : 0
Parametric Highlights : 0
Parametric Shadow Split : 25
Parametric Midtone Split : 50
Parametric Highlight Split : 75
Sharpen Radius : +0.6
Sharpen Detail : 60
Sharpen Edge Masking : 20
Post Crop Vignette Amount : -8
Post Crop Vignette Midpoint : 60
Post Crop Vignette Feather : 50
Post Crop Vignette Roundness : 0
Post Crop Vignette Style : Highlight Priority
Post Crop Vignette Highlight Contrast : 0
Grain Amount : 0
Color Noise Reduction Detail : 50
Color Noise Reduction Smoothness : 50
Lens Profile Enable : 0
Lens Manual Distortion Amount : 0
Perspective Vertical : 0
Perspective Horizontal : 0
Perspective Rotate : 0.0
Perspective Scale : 100
Perspective Aspect : 0
Perspective Upright : Off
Auto Lateral CA : 0
Exposure 2012 : +0.16
Contrast 2012 : +11
Highlights 2012 : +15
Shadows 2012 : 0
Whites 2012 : 0
Blacks 2012 : -10
Clarity 2012 : +5
Defringe Purple Amount : 0
Defringe Purple Hue Lo : 30
Defringe Purple Hue Hi : 70
Defringe Green Amount : 0
Defringe Green Hue Lo : 40
Defringe Green Hue Hi : 60
Convert To Grayscale : False
Tone Curve Name : Medium Contrast
Tone Curve Name 2012 : Custom
Camera Profile : Adobe Standard
Lens Profile Setup : LensDefaults
Has Settings : True
Crop Top : 0.067606
Crop Left : 0.058686
Crop Bottom : 0.985915
Crop Right : 0.877465
Crop Angle : 0
Crop Constrain To Warp : 0
Has Crop : True
Already Applied : True
Tone Curve : 0, 0, 32, 22, 64, 56, 128, 128, 192, 196, 255, 255
Tone Curve Red : 0, 0, 255, 255
Tone Curve Green : 0, 0, 255, 255
Tone Curve Blue : 0, 0, 255, 255
Tone Curve PV2012 : 0, 0, 242, 253
Tone Curve PV2012 Red : 0, 0, 255, 255
Tone Curve PV2012 Green : 0, 0, 255, 255
Tone Curve PV2012 Blue : 0, 0, 255, 255
Image Width : 300
Image Height : 224
Bits Per Sample : 8
Color Components : 3
Aperture : 7.1
Image Size : 300x224
Megapixels : 0.067
Scale Factor To 35 mm Equivalent : 1.0
Shutter Speed : 1/5
Circle Of Confusion : 0.030 mm
Field Of View : 54.4 deg
Focal Length : 35.0 mm (35 mm equivalent: 35.0 mm)
Hyperfocal Distance : 5.74 m
Light Value : 5.0
Lens ID : FE 16-35mm F4 ZA OSS