Uber Exif Photo
Make : NIKON CORPORATION
Camera Model Name : NIKON D700
Orientation : Horizontal (normal)
Software : Adobe Photoshop CS5 Windows
Modify Date : 2011:07:29 11:34:17
Exposure Time : 1/5000
F Number : 1.4
Exposure Program : Aperture-priority AE
ISO : 200
Date/Time Original : 2011:07:23 17:00:46
Create Date : 2011:07:23 17:00:46
Shutter Speed Value : 1/5000
Aperture Value : 1.4
Exposure Compensation : -2/3
Max Aperture Value : 1.4
Metering Mode : Multi-segment
Light Source : Unknown
Flash : No Flash
Focal Length : 35.0 mm
Color Space : sRGB
Exif Image Width : 1024
Exif Image Height : 701
Sensing Method : One-chip color area
Scene Type : Directly photographed
CFA Pattern : [Red,Green][Green,Blue]
Custom Rendered : Normal
Exposure Mode : Auto
White Balance : Auto
Digital Zoom Ratio : 1
Focal Length In 35mm Format : 35 mm
Scene Capture Type : Standard
Gain Control : None
Contrast : Normal
Saturation : Normal
Sharpness : Normal
Subject Distance Range : Unknown
Profile Description : sRGB IEC61966-2.1
Creator Tool : Ver.1.02
Rating : 3
Serial Number : 2281416
Lens Info : 35mm f/1.4
Lens : 35.0 mm f/1.4
Image Number : 29275
Raw File Name : DSC_8251.NEF
Version : 6.0
Process Version : 5.7
Color Temperature : 4900
Tint : +9
Exposure : 0.00
Shadows : 5
Brightness : +50
Luminance Smoothing : 5
Color Noise Reduction : 25
Chromatic Aberration R : 0
Chromatic Aberration B : 0
Vignette Amount : -52
Vignette Midpoint : 40
Shadow Tint : 0
Red Hue : 0
Red Saturation : 0
Green Hue : 0
Green Saturation : 0
Blue Hue : 0
Blue Saturation : 0
Fill Light : 0
Vibrance : +9
Highlight Recovery : 0
Clarity : 0
Defringe : 0
Hue Adjustment Red : 0
Hue Adjustment Orange : 0
Hue Adjustment Yellow : 0
Hue Adjustment Green : 0
Hue Adjustment Aqua : 0
Hue Adjustment Blue : 0
Hue Adjustment Purple : 0
Hue Adjustment Magenta : 0
Saturation Adjustment Red : 0
Saturation Adjustment Orange : 0
Saturation Adjustment Yellow : 0
Saturation Adjustment Green : 0
Saturation Adjustment Aqua : 0
Saturation Adjustment Blue : 0
Saturation Adjustment Purple : 0
Saturation Adjustment Magenta : 0
Luminance Adjustment Red : 0
Luminance Adjustment Orange : 0
Luminance Adjustment Yellow : 0
Luminance Adjustment Green : 0
Luminance Adjustment Aqua : 0
Luminance Adjustment Blue : 0
Luminance Adjustment Purple : 0
Luminance Adjustment Magenta : 0
Split Toning Shadow Hue : 0
Split Toning Shadow Saturation : 0
Split Toning Highlight Hue : 0
Split Toning Highlight Saturation : 0
Split Toning Balance : 0
Parametric Shadows : 0
Parametric Darks : 0
Parametric Lights : 0
Parametric Highlights : 0
Parametric Shadow Split : 25
Parametric Midtone Split : 50
Parametric Highlight Split : 75
Sharpen Radius : +1.0
Sharpen Detail : 25
Sharpen Edge Masking : 0
Post Crop Vignette Amount : 0
Grain Amount : 0
Luminance Noise Reduction Detail : 50
Color Noise Reduction Detail : 50
Luminance Noise Reduction Contrast : 0
Convert To Grayscale : False
Tone Curve Name : Medium Contrast
Camera Profile : Camera Standard v2
Has Settings : True
Crop Top : 0.070621
Crop Left : 0.096154
Crop Bottom : 1
Crop Right : 1
Crop Angle : 0
Crop Width : 13
Crop Height : 19
Crop Unit : Unknown (3)
Has Crop : True
Already Applied : True
Format : image/jpeg
Color Mode : RGB
ICC Profile Name : sRGB IEC61966-2.1
Date Created : 2011:07:23 17:00:46.058
Tone Curve : 0, 0, 32, 22, 64, 56, 128, 128, 192, 196, 255, 255
Image Width : 300
Image Height : 205
Bits Per Sample : 8
Color Components : 3
Aperture : 1.4
Image Size : 300x205
Megapixels : 0.061
Scale Factor To 35 mm Equivalent : 1.0
Shutter Speed : 1/5000
Create Date : 2011:07:23 17:00:46.58
Date/Time Original : 2011:07:23 17:00:46.58
Modify Date : 2011:07:29 11:34:17.58
Circle Of Confusion : 0.030 mm
Field Of View : 54.4 deg
Focal Length : 35.0 mm (35 mm equivalent: 35.0 mm)
Hyperfocal Distance : 29.12 m
Light Value : 12.3
Lens ID : 35.0mm f/1.4