Uber Exif Photo
Make : Canon
Camera Model Name : Canon EOS 6D
Software : Adobe Lightroom 8.2 (Windows)
Modify Date : 2025:03:25 19:44:15
Exposure Time : 1/640
F Number : 1.4
Exposure Program : Aperture-priority AE
ISO : 100
Sensitivity Type : Recommended Exposure Index
Recommended Exposure Index : 100
Date/Time Original : 2025:03:23 16:15:47
Create Date : 2025:03:23 16:15:47
Shutter Speed Value : 1/640
Aperture Value : 1.4
Exposure Compensation : 0
Max Aperture Value : 1.4
Metering Mode : Multi-segment
Flash : Off, Did not fire
Focal Length : 100.0 mm
Color Space : sRGB
Custom Rendered : Normal
Exposure Mode : Auto
White Balance : Manual
Scene Capture Type : Standard
Serial Number : 083053000752
Lens Info : 100mm f/?
Lens Model : Zeiss Otus 1.4/100 ZE
Lens Serial Number : 0000000000
Profile Description : sRGB IEC61966-2.1
Creator Tool : Adobe Lightroom 8.2 (Windows)
Lens : Zeiss Otus 1.4/100 ZE
Image Number : 0
Flash Compensation : 0
Firmware : 1.1.9
Date Created : 2025:03:23 16:15:47.00
Format : image/jpeg
Raw File Name : IMG_6841.CR2
Version : 17.2
Process Version : 15.4
Color Temperature : 5650
Tint : +5
Exposure 2012 : +0.08
Contrast 2012 : +95
Highlights 2012 : -88
Shadows 2012 : +99
Whites 2012 : -75
Blacks 2012 : -44
Texture : +18
Clarity 2012 : +28
Dehaze : +25
Vibrance : -17
Saturation : +28
Parametric Shadows : 0
Parametric Darks : 0
Parametric Lights : 0
Parametric Highlights : 0
Parametric Shadow Split : 25
Parametric Midtone Split : 50
Parametric Highlight Split : 75
Sharpness : 1
Sharpen Radius : +1.0
Sharpen Detail : 25
Sharpen Edge Masking : 0
Luminance Smoothing : 15
Luminance Noise Reduction Detail : 59
Luminance Noise Reduction Contrast : 3
Color Noise Reduction : 25
Color Noise Reduction Detail : 50
Color Noise Reduction Smoothness : 50
Hue Adjustment Red : 0
Hue Adjustment Orange : 0
Hue Adjustment Yellow : -28
Hue Adjustment Green : 0
Hue Adjustment Aqua : +95
Hue Adjustment Blue : 0
Hue Adjustment Purple : 0
Hue Adjustment Magenta : 0
Saturation Adjustment Red : -28
Saturation Adjustment Orange : +14
Saturation Adjustment Yellow : -47
Saturation Adjustment Green : 0
Saturation Adjustment Aqua : -95
Saturation Adjustment Blue : -24
Saturation Adjustment Purple : -85
Saturation Adjustment Magenta : -95
Luminance Adjustment Red : 0
Luminance Adjustment Orange : +9
Luminance Adjustment Yellow : 0
Luminance Adjustment Green : 0
Luminance Adjustment Aqua : 0
Luminance Adjustment Blue : -14
Luminance Adjustment Purple : 0
Luminance Adjustment Magenta : 0
Split Toning Shadow Hue : 195
Split Toning Shadow Saturation : 10
Split Toning Highlight Hue : 55
Split Toning Highlight Saturation : 9
Split Toning Balance : 0
Color Grade Midtone Hue : 0
Color Grade Midtone Sat : 0
Color Grade Shadow Lum : 0
Color Grade Midtone Lum : 0
Color Grade Highlight Lum : 0
Color Grade Blending : 100
Color Grade Global Hue : 0
Color Grade Global Sat : 0
Color Grade Global Lum : 0
Auto Lateral CA : 0
Lens Profile Enable : 0
Lens Manual Distortion Amount : 0
Vignette Amount : 0
Defringe Purple Amount : 0
Defringe Purple Hue Lo : 30
Defringe Purple Hue Hi : 70
Defringe Green Amount : 0
Defringe Green Hue Lo : 40
Defringe Green Hue Hi : 60
Perspective Upright : Off
Perspective Vertical : 0
Perspective Horizontal : 0
Perspective Rotate : 0.0
Perspective Aspect : 0
Perspective Scale : 100
Perspective X : 0.00
Perspective Y : 0.00
Grain Amount : 0
Post Crop Vignette Amount : -18
Post Crop Vignette Midpoint : 26
Post Crop Vignette Feather : 50
Post Crop Vignette Roundness : 0
Post Crop Vignette Style : Highlight Priority
Post Crop Vignette Highlight Contrast : 100
Shadow Tint : 0
Red Hue : 0
Red Saturation : 0
Green Hue : 0
Green Saturation : 0
Blue Hue : 0
Blue Saturation : 0
HDR Edit Mode : 0
Curve Refine Saturation : 100
Override Look Vignette : True
Tone Curve Name 2012 : Custom
Camera Profile : Adobe Standard
Lens Profile Setup : LensDefaults
Lens Profile Name : Adobe (Zeiss Otus 1.4/100 ZE)
Lens Profile Filename : Canon (Zeiss Otus 1.4_100 ZE) - RAW.lcp
Lens Profile Is Embedded : False
Lens Profile Distortion Scale : 100
Lens Profile Vignetting Scale : 100
Has Settings : True
Crop Top : 0
Crop Left : 0
Crop Bottom : 1
Crop Right : 1
Crop Angle : 0
Crop Constrain To Warp : 0
Has Crop : False
Already Applied : True
Tone Curve PV2012 : 0, 0, 60, 65, 127, 119, 193, 177, 255, 255
Tone Curve PV2012 Red : 0, 0, 255, 255
Tone Curve PV2012 Green : 0, 0, 255, 255
Tone Curve PV2012 Blue : 0, 0, 255, 255
Point Colors : -1.000000, -1.000000, -1.000000, -1.000000, -1.000000, -1.000000, -1.000000, -1.000000, -1.000000, -1.000000, -1.000000, -1.000000, -1.000000, -1.000000, -1.000000, -1.000000, -1.000000, -1.000000, -1.000000
Look Name : Modern 08
Look Amount : 0.97
Look Cluster : Adobe
Look Supports Monochrome : false
Look Group : Modern
Look Parameters Version : 17.2
Look Parameters Process Version : 15.4
Look Parameters Convert To Grayscale : False
Look Parameters Look Table : E1095149FDB39D7A057BAB208837E2E1
Look Parameters RGB Table : 6133E9CB13FA32712A5AC579D110EC44
Look Parameters RGB Table Amount : 0.75
Image Width : 267
Image Height : 400
Bits Per Sample : 8
Color Components : 3
Aperture : 1.4
Image Size : 267x400
Megapixels : 0.107
Scale Factor To 35 mm Equivalent : 13.7
Shutter Speed : 1/640
Create Date : 2025:03:23 16:15:47.00
Date/Time Original : 2025:03:23 16:15:47.00
Modify Date : 2025:03:25 19:44:15+01:00
Circle Of Confusion : 0.002 mm
Field Of View : 1.5 deg
Focal Length : 100.0 mm (35 mm equivalent: 1367.5 mm)
Hyperfocal Distance : 3250.88 m
Light Value : 10.3
Lens ID : Zeiss Otus 100mm f/1.4