Uber Exif Photo
Make : Canon
Camera Model Name : Canon EOS 6D
Software : Adobe Lightroom 8.2 (Windows)
Modify Date : 2025:03:22 17:36:06
Exposure Time : 1/2000
F Number : 2.5
Exposure Program : Aperture-priority AE
ISO : 400
Sensitivity Type : Recommended Exposure Index
Recommended Exposure Index : 400
Date/Time Original : 2025:03:02 17:23:38
Create Date : 2025:03:02 17:23:38
Shutter Speed Value : 1/2000
Aperture Value : 2.5
Exposure Compensation : 0
Max Aperture Value : 1.4
Metering Mode : Multi-segment
Flash : Off, Did not fire
Focal Length : 28.0 mm
Color Space : sRGB
Custom Rendered : Normal
Exposure Mode : Auto
White Balance : Manual
Scene Capture Type : Standard
Serial Number : 083053000752
Lens Info : 28mm f/?
Lens Model : Zeiss Otus 1.4/28 ZE
Lens Serial Number : 0000000000
Profile Description : sRGB IEC61966-2.1
Rating : 4
Creator Tool : Adobe Lightroom 8.2 (Windows)
Lens : Zeiss Otus 1.4/28 ZE
Image Number : 0
Flash Compensation : 0
Firmware : 1.1.9
Date Created : 2025:03:02 17:23:38.00
Format : image/jpeg
Raw File Name : IMG_6408.CR2
Version : 17.2
Compatible Version : 251920384
Process Version : 15.4
Color Temperature : 6048
Tint : +3
Exposure 2012 : +0.31
Contrast 2012 : +69
Highlights 2012 : +16
Shadows 2012 : -45
Whites 2012 : 0
Blacks 2012 : -19
Texture : +22
Clarity 2012 : +11
Dehaze : 0
Vibrance : 0
Saturation : 0
Parametric Shadows : 0
Parametric Darks : 0
Parametric Lights : 0
Parametric Highlights : 0
Parametric Shadow Split : 25
Parametric Midtone Split : 50
Parametric Highlight Split : 75
Sharpness : 0
Luminance Smoothing : 0
Color Noise Reduction : 25
Color Noise Reduction Detail : 50
Color Noise Reduction Smoothness : 50
Gray Mixer Red : 0
Gray Mixer Orange : -11
Gray Mixer Yellow : -20
Gray Mixer Green : -25
Gray Mixer Aqua : -18
Gray Mixer Blue : +9
Gray Mixer Purple : +14
Gray Mixer Magenta : +4
Hue Adjustment Red : 0
Hue Adjustment Orange : 0
Hue Adjustment Yellow : 0
Hue Adjustment Green : 0
Hue Adjustment Aqua : 0
Hue Adjustment Blue : 0
Hue Adjustment Purple : 0
Hue Adjustment Magenta : 0
Saturation Adjustment Red : 0
Saturation Adjustment Orange : 0
Saturation Adjustment Yellow : 0
Saturation Adjustment Green : 0
Saturation Adjustment Aqua : 0
Saturation Adjustment Blue : 0
Saturation Adjustment Purple : 0
Saturation Adjustment Magenta : 0
Luminance Adjustment Red : 0
Luminance Adjustment Orange : 0
Luminance Adjustment Yellow : 0
Luminance Adjustment Green : 0
Luminance Adjustment Aqua : 0
Luminance Adjustment Blue : 0
Luminance Adjustment Purple : 0
Luminance Adjustment Magenta : 0
Split Toning Shadow Hue : 0
Split Toning Shadow Saturation : 0
Split Toning Highlight Hue : 0
Split Toning Highlight Saturation : 0
Split Toning Balance : 0
Color Grade Midtone Hue : 0
Color Grade Midtone Sat : 0
Color Grade Shadow Lum : 0
Color Grade Midtone Lum : 0
Color Grade Highlight Lum : 0
Color Grade Blending : 50
Color Grade Global Hue : 0
Color Grade Global Sat : 0
Color Grade Global Lum : 0
Auto Lateral CA : 0
Lens Profile Enable : 0
Lens Manual Distortion Amount : 0
Vignette Amount : 0
Defringe Purple Amount : 0
Defringe Purple Hue Lo : 30
Defringe Purple Hue Hi : 70
Defringe Green Amount : 0
Defringe Green Hue Lo : 40
Defringe Green Hue Hi : 60
Perspective Upright : Off
Perspective Vertical : 0
Perspective Horizontal : 0
Perspective Rotate : 0.0
Perspective Aspect : 0
Perspective Scale : 100
Perspective X : 0.00
Perspective Y : 0.00
Grain Amount : 0
Post Crop Vignette Amount : -20
Post Crop Vignette Midpoint : 50
Post Crop Vignette Feather : 50
Post Crop Vignette Roundness : 0
Post Crop Vignette Style : Highlight Priority
Post Crop Vignette Highlight Contrast : 0
Shadow Tint : 0
Red Hue : 0
Red Saturation : 0
Green Hue : 0
Green Saturation : 0
Blue Hue : 0
Blue Saturation : 0
HDR Edit Mode : 0
Override Look Vignette : False
Tone Curve Name 2012 : Linear
Camera Profile : Adobe Standard
Lens Profile Setup : LensDefaults
Lens Profile Name : Adobe (Zeiss Otus 1.4/28 ZE)
Lens Profile Filename : Canon (Zeiss Otus 1.4_28 ZE) - RAW.lcp
Lens Profile Is Embedded : False
Lens Profile Distortion Scale : 100
Lens Profile Vignetting Scale : 100
Has Settings : True
Crop Top : 0
Crop Left : 0
Crop Bottom : 1
Crop Right : 1
Crop Angle : 0
Crop Constrain To Warp : 0
Has Crop : False
Already Applied : True
Tone Curve PV2012 : 0, 0, 255, 255
Tone Curve PV2012 Red : 0, 0, 255, 255
Tone Curve PV2012 Green : 0, 0, 255, 255
Tone Curve PV2012 Blue : 0, 0, 255, 255
Point Colors : -1.000000, -1.000000, -1.000000, -1.000000, -1.000000, -1.000000, -1.000000, -1.000000, -1.000000, -1.000000, -1.000000, -1.000000, -1.000000, -1.000000, -1.000000, -1.000000, -1.000000, -1.000000, -1.000000
Look Name : Adobe Monochrome
Look Amount : 1
Look Supports Amount : false
Look Supports Monochrome : false
Look Supports Output Referred : false
Look Group : Profiles
Look Parameters Version : 17.2
Look Parameters Process Version : 15.4
Look Parameters Clarity 2012 : +8
Look Parameters Convert To Grayscale : True
Look Parameters Camera Profile : Adobe Standard
Look Parameters Look Table : 73ED6C18DDE909DD7EA2D771F5AC282D
Look Parameters Tone Curve PV2012 : 0, 0, 64, 56, 128, 128, 192, 197, 255, 255
Look Parameters Tone Curve PV2012 Red : 0, 0, 255, 255
Look Parameters Tone Curve PV2012 Green : 0, 0, 255, 255
Look Parameters Tone Curve PV2012 Blue : 0, 0, 255, 255
Image Width : 267
Image Height : 400
Bits Per Sample : 8
Color Components : 3
Aperture : 2.5
Image Size : 267x400
Megapixels : 0.107
Scale Factor To 35 mm Equivalent : 13.7
Shutter Speed : 1/2000
Create Date : 2025:03:02 17:23:38.00
Date/Time Original : 2025:03:02 17:23:38.00
Modify Date : 2025:03:22 17:36:06+01:00
Circle Of Confusion : 0.002 mm
Field Of View : 5.4 deg
Focal Length : 28.0 mm (35 mm equivalent: 382.9 mm)
Hyperfocal Distance : 142.73 m
Light Value : 11.6
Lens ID : Zeiss Otus 28mm f/1.4 ZE