Uber Exif Photo
Make : Leica Camera AG
Camera Model Name : LEICA M11-P
Software : Adobe Lightroom 7.1.2 (Windows)
Modify Date : 2024:02:03 20:22:49
Artist : Marc Fray
Copyright : Marc FRAY
Exposure Time : 1/250
F Number : 2.0
Exposure Program : Manual
ISO : 800
Sensitivity Type : Standard Output Sensitivity
Standard Output Sensitivity : 800
ISO Speed : 800
Date/Time Original : 2024:02:03 12:34:36
Create Date : 2024:02:03 12:34:36
Shutter Speed Value : 1/250
Aperture Value : 2.0
Exposure Compensation : 0
Max Aperture Value : 2.0
Metering Mode : Multi-segment
Light Source : Unknown
Flash : No Flash
Focal Length : 50.0 mm
Color Space : Uncalibrated
Scene Type : Directly photographed
Custom Rendered : Normal
Exposure Mode : Manual
White Balance : Auto
Digital Zoom Ratio : 0
Scene Capture Type : Standard
Contrast : Normal
Saturation : Normal
Sharpness : Normal
Serial Number : 5886088
Lens Info : 50mm f/2
Lens Make : Leica Camera AG
Lens Model : Summicron 1:2/50 Leitz
Keywords : chartreux, Saphir, chat
By-line : Marc Fray
Copyright Notice : Marc FRAY
Profile Description : Adobe RGB (1998)
Version ID : 02.00
Creator Tool : Adobe Lightroom 7.1.2 (Windows)
Format : image/jpeg
Correction Already Applied : False
Pitch Angle : -0.1930000036
Roll Angle : 0.7260000109
Focal Length 35mm : 50.0000000000
Target Aspect Ratio : 1.5000000000
Scaling Factor Height : 0.9811704754
Valid Crop Corners : True
Apply Automatically : False
Lens : Summicron 1:2/50 Leitz
Approximate Focus Distance : 0.83
Lateral Chromatic Aberration Correction Already Applied : True
Date Created : 2024:02:03 12:34:36
Raw File Name : L1000281.DNG
Version : 16.1
Process Version : 15.4
Color Temperature : 5100
Tint : +21
Exposure 2012 : +0.01
Contrast 2012 : +7
Highlights 2012 : -54
Shadows 2012 : +22
Whites 2012 : +14
Blacks 2012 : -39
Texture : 0
Clarity 2012 : 0
Dehaze : 0
Vibrance : +20
Parametric Shadows : 0
Parametric Darks : 0
Parametric Lights : 0
Parametric Highlights : 0
Parametric Shadow Split : 25
Parametric Midtone Split : 50
Parametric Highlight Split : 75
Sharpen Radius : +1.0
Sharpen Detail : 25
Sharpen Edge Masking : 0
Luminance Smoothing : 10
Luminance Noise Reduction Detail : 50
Luminance Noise Reduction Contrast : 0
Color Noise Reduction : 25
Color Noise Reduction Detail : 50
Color Noise Reduction Smoothness : 50
Hue Adjustment Red : 0
Hue Adjustment Orange : 0
Hue Adjustment Yellow : 0
Hue Adjustment Green : 0
Hue Adjustment Aqua : 0
Hue Adjustment Blue : 0
Hue Adjustment Purple : 0
Hue Adjustment Magenta : 0
Saturation Adjustment Red : 0
Saturation Adjustment Orange : 0
Saturation Adjustment Yellow : 0
Saturation Adjustment Green : 0
Saturation Adjustment Aqua : 0
Saturation Adjustment Blue : 0
Saturation Adjustment Purple : 0
Saturation Adjustment Magenta : 0
Luminance Adjustment Red : 0
Luminance Adjustment Orange : 0
Luminance Adjustment Yellow : 0
Luminance Adjustment Green : 0
Luminance Adjustment Aqua : 0
Luminance Adjustment Blue : 0
Luminance Adjustment Purple : 0
Luminance Adjustment Magenta : 0
Split Toning Shadow Hue : 0
Split Toning Shadow Saturation : 0
Split Toning Highlight Hue : 0
Split Toning Highlight Saturation : 0
Split Toning Balance : 0
Color Grade Midtone Hue : 0
Color Grade Midtone Sat : 0
Color Grade Shadow Lum : 0
Color Grade Midtone Lum : 0
Color Grade Highlight Lum : 0
Color Grade Blending : 50
Color Grade Global Hue : 0
Color Grade Global Sat : 0
Color Grade Global Lum : 0
Auto Lateral CA : 1
Lens Profile Enable : 1
Lens Manual Distortion Amount : 0
Vignette Amount : 0
Defringe Purple Amount : 0
Defringe Purple Hue Lo : 30
Defringe Purple Hue Hi : 70
Defringe Green Amount : 0
Defringe Green Hue Lo : 40
Defringe Green Hue Hi : 60
Perspective Upright : Off
Perspective Vertical : 0
Perspective Horizontal : 0
Perspective Rotate : 0.0
Perspective Aspect : 0
Perspective Scale : 100
Perspective X : 0.00
Perspective Y : 0.00
Grain Amount : 0
Post Crop Vignette Amount : 0
Shadow Tint : 0
Red Hue : 0
Red Saturation : 0
Green Hue : 0
Green Saturation : 0
Blue Hue : 0
Blue Saturation : 0
HDR Edit Mode : 0
Convert To Grayscale : False
Override Look Vignette : False
Tone Curve Name 2012 : Linear
Camera Profile : Adobe Standard
Lens Profile Setup : LensDefaults
Has Settings : True
Crop Top : 0
Crop Left : 0.057663
Crop Bottom : 1
Crop Right : 0.942337
Crop Angle : 0
Crop Constrain To Warp : 0
Has Crop : True
Already Applied : True
Derived From Version ID : 02.00
Rights : Marc FRAY
Subject : chartreux, Saphir, chat
Creator : Marc Fray
Normalized Crop Corners : 0.0049198581, 0.0186630468, 0.9867899417, 0.0000000000, 0.9942998290, 0.9811006784, 0.0139861349, 0.9997341632
Tone Curve PV2012 : 0, 0, 255, 255
Tone Curve PV2012 Red : 0, 0, 255, 255
Tone Curve PV2012 Green : 0, 0, 255, 255
Tone Curve PV2012 Blue : 0, 0, 255, 255
Point Colors : -1.000000, -1.000000, -1.000000, -1.000000, -1.000000, -1.000000, -1.000000, -1.000000, -1.000000, -1.000000, -1.000000, -1.000000, -1.000000, -1.000000, -1.000000, -1.000000, -1.000000, -1.000000, -1.000000
Image Width : 400
Image Height : 300
Bits Per Sample : 8
Color Components : 3
Aperture : 2.0
Image Size : 400x300
Megapixels : 0.120
Scale Factor To 35 mm Equivalent : 12.7
Shutter Speed : 1/250
Modify Date : 2024:02:03 20:22:49+01:00
Circle Of Confusion : 0.002 mm
Depth Of Field : 0.002 m (0.829 - 0.831 m)
Field Of View : 3.3 deg
Focal Length : 50.0 mm (35 mm equivalent: 632.7 mm)
Hyperfocal Distance : 526.43 m
Light Value : 7.0
Lens ID : Summicron 1:2/50 Leitz