Uber Exif Photo
Make : LEICA CAMERA AG
Camera Model Name : LEICA SL2
Software : Adobe Photoshop Lightroom Classic 13.0.1 (Windows)
Modify Date : 2023:11:08 23:00:24
Exposure Time : 1/100
F Number : 7.1
Exposure Program : Aperture-priority AE
ISO : 100
Sensitivity Type : Standard Output Sensitivity
Standard Output Sensitivity : 100
Date/Time Original : 2023:03:29 11:40:36
Create Date : 2023:03:29 11:40:36
Shutter Speed Value : 1/100
Aperture Value : 7.1
Exposure Compensation : -1
Max Aperture Value : 2.8
Metering Mode : Multi-segment
Light Source : Unknown
Flash : Off, Did not fire
Focal Length : 38.0 mm
Color Space : Uncalibrated
Sensing Method : One-chip color area
Custom Rendered : Normal
White Balance : Auto
Focal Length In 35mm Format : 38 mm
Scene Capture Type : Standard
Contrast : Normal
Saturation : Normal
Sharpness : Normal
Serial Number : 5578889
Lens Info : 24-70mm f/3
Lens Make : LEICA CAMERA AG
Lens Model : VARIO-ELMARIT-SL 1:2.8/24-70 ASPH.
Lens Serial Number : 4761621
Profile Description : Adobe RGB (1998)
Creator Tool : Adobe Photoshop Lightroom Classic 13.0.1 (Windows)
Correction Already Applied : False
Pitch Angle : 2.7000000477
Roll Angle : 1.1000000238
Focal Length 35mm : 39.0000000000
Target Aspect Ratio : 1.4985673428
Scaling Factor Height : 0.9726866484
Valid Crop Corners : True
Apply Automatically : False
Lens : VARIO-ELMARIT-SL 1:2.8/24-70 ASPH.
Distortion Correction Already Applied : True
Lateral Chromatic Aberration Correction Already Applied : True
Date Created : 2023:03:29 11:40:36-04:00
Preserved File Name : L1010991.DNG
Format : image/jpeg
Raw File Name : L1010991.DNG
Version : 16.0
Process Version : 11.0
Color Temperature : 5600
Tint : +18
Exposure 2012 : +0.61
Contrast 2012 : 0
Highlights 2012 : -51
Shadows 2012 : -5
Whites 2012 : +60
Blacks 2012 : +19
Texture : 0
Clarity 2012 : +2
Dehaze : 0
Parametric Shadows : 0
Parametric Darks : 0
Parametric Lights : 0
Parametric Highlights : 0
Parametric Shadow Split : 25
Parametric Midtone Split : 50
Parametric Highlight Split : 75
Sharpen Radius : +1.0
Sharpen Detail : 25
Sharpen Edge Masking : 0
Luminance Smoothing : 0
Color Noise Reduction : 25
Color Noise Reduction Detail : 50
Color Noise Reduction Smoothness : 50
Gray Mixer Red : 0
Gray Mixer Orange : 0
Gray Mixer Yellow : 0
Gray Mixer Green : 0
Gray Mixer Aqua : 0
Gray Mixer Blue : 0
Gray Mixer Purple : 0
Gray Mixer Magenta : 0
Split Toning Shadow Hue : 0
Split Toning Shadow Saturation : 0
Split Toning Highlight Hue : 0
Split Toning Highlight Saturation : 0
Split Toning Balance : 0
Color Grade Midtone Hue : 0
Color Grade Midtone Sat : 0
Color Grade Shadow Lum : 0
Color Grade Midtone Lum : 0
Color Grade Highlight Lum : 0
Color Grade Blending : 50
Color Grade Global Hue : 0
Color Grade Global Sat : 0
Color Grade Global Lum : 0
Auto Lateral CA : 1
Lens Profile Enable : 0
Lens Manual Distortion Amount : 0
Vignette Amount : 0
Perspective Upright : Off
Perspective Vertical : 0
Perspective Horizontal : 0
Perspective Rotate : 0.0
Perspective Aspect : 0
Perspective Scale : 100
Perspective X : 0.00
Perspective Y : 0.00
Grain Amount : 0
Post Crop Vignette Amount : 0
Shadow Tint : 0
Red Hue : 0
Red Saturation : 0
Green Hue : 0
Green Saturation : 0
Blue Hue : 0
Blue Saturation : 0
HDR Edit Mode : 0
Override Look Vignette : False
Tone Curve Name 2012 : Linear
Camera Profile : Adobe Standard
Has Settings : True
Crop Top : 0.06742
Crop Left : 0.022669
Crop Bottom : 0.837066
Crop Right : 0.810052
Crop Angle : -0.6
Crop Constrain To Warp : 0
Has Crop : True
Already Applied : True
Normalized Crop Corners : 0.0143824657, 0.0283601228, 0.9731779099, 0.0007717780, 0.9993396401, 0.9716222286, 0.0131096300, 1.0000000000
Tone Curve PV2012 : 0, 0, 255, 255
Tone Curve PV2012 Red : 0, 0, 255, 255
Tone Curve PV2012 Green : 0, 0, 255, 255
Tone Curve PV2012 Blue : 0, 0, 255, 255
Look Name : Adobe Monochrome
Look Amount : 1
Look Supports Amount : false
Look Supports Monochrome : false
Look Supports Output Referred : false
Look Group : Profiles
Look Parameters Version : 16.0
Look Parameters Process Version : 15.4
Look Parameters Clarity 2012 : +8
Look Parameters Convert To Grayscale : True
Look Parameters Camera Profile : Adobe Standard
Look Parameters Look Table : 73ED6C18DDE909DD7EA2D771F5AC282D
Look Parameters Tone Curve PV2012 : 0, 0, 64, 56, 128, 128, 192, 197, 255, 255
Look Parameters Tone Curve PV2012 Red : 0, 0, 255, 255
Look Parameters Tone Curve PV2012 Green : 0, 0, 255, 255
Look Parameters Tone Curve PV2012 Blue : 0, 0, 255, 255
Image Width : 400
Image Height : 267
Bits Per Sample : 8
Color Components : 3
Aperture : 7.1
Image Size : 400x267
Megapixels : 0.107
Scale Factor To 35 mm Equivalent : 1.0
Shutter Speed : 1/100
Create Date : 2023:03:29 11:40:36-04:00
Date/Time Original : 2023:03:29 11:40:36-04:00
Modify Date : 2023:11:08 23:00:24-05:00
Circle Of Confusion : 0.030 mm
Field Of View : 50.7 deg
Focal Length : 38.0 mm (35 mm equivalent: 38.0 mm)
Hyperfocal Distance : 6.77 m
Light Value : 12.3